BEGIN:VCALENDAR
VERSION:2.0
PRODID:-//STRAWANZERIN - ECPv4.9.5//NONSGML v1.0//EN
CALSCALE:GREGORIAN
METHOD:PUBLISH
X-WR-CALNAME:STRAWANZERIN
X-ORIGINAL-URL:https://www.strawanzerin.at
X-WR-CALDESC:Veranstaltungen im STRAWANZERIN
BEGIN:VTIMEZONE
TZID:"Europe/Vienna"
BEGIN:DAYLIGHT
TZOFFSETFROM:+0100
TZOFFSETTO:+0200
TZNAME:CEST
DTSTART:20220327T010000
END:DAYLIGHT
BEGIN:STANDARD
TZOFFSETFROM:+0200
TZOFFSETTO:+0100
TZNAME:CET
DTSTART:20221030T010000
END:STANDARD
END:VTIMEZONE
BEGIN:VEVENT
DTSTART;TZID="Europe/Vienna":20220113T200000
DTEND;TZID="Europe/Vienna":20220113T213000
DTSTAMP:20260422T074845
CREATED:20211215T172940Z
LAST-MODIFIED:20211215T172940Z
UID:82124-1642104000-1642109400@www.strawanzerin.at
SUMMARY:Naïma Mazic / n ï m company – PoLy-Mirrors /a re-performance of feminine diagonals/
DESCRIPTION:Performen Diagonalen durch den Körper Femininität? Mit dieser Frage als Ausgangspunkt zeigt die Choreographin Naïma Mazic gesenkte Blicke\, geneigte Köpfe\, entblößte Hälse und verdrehte polyrhythmische Körper. Zugleich erzeugt sie eine Verwirrung beim Publikum\, wer eigentlich wen betrachtet. Zwei Tänzer*innen und zwei Jazzmusiker*innen der n ï m company entwickeln eine gemeinsame rhythmische Sprache\, die gewohnte Blickachsen der Zuschauer*innen bricht und neue\, schräge\, queere Perspektiven eröffnet. PoLy-Mirrors ist ein Glissando in ein diagonales feminines Sein. \nDie Tänzer*innen Yuika Hashimoto und Lucie Piot\, sowie Evi Filippou an Vibraphon/ Perkussion und Georg Vogel an Synthesizer und am selbst gebauten Tasteninstrument M-Claviton bringen in PoLy-Mirrors eine tänzerisch-musikalische Auseinandersetzung mit Jazzmusik und Feminität auf die Bühne. Die Performer*innen teilen ungerade Grooves und entziffern (poly-)rhythmische Zyklen des Körpers. Die Künstlerin Lola Drubigny schafft mit ihrer Installation aus Spiegeln einen Raum\, in dem sich Musik und Tanz reflektieren und dabei feminine diagonale Haltungen transformieren\, zurückfordern und ihnen eine neue selbstbestimmte Bedeutung geben. \nPoLy-Mirrors /a re-performance of feminine diagonals/ beleuchtet die Projizierung\, Erotisierung und Fetischisierung diagonaler Linien des weiblichen Körpers und hinterfragt stets eine resonierende Merkwürdigkeit\, mystifizierte Verführung und Rituale der Unterwürfigkeit. \nIm Anschluss an die Vorstellung am 14. Jänner findet ein Publikumsgespräch statt. \nAn den Vorstellungstagen ist von 19:00 bis 20:00 Uhr die Filminstallation PoLy-Mirrors von Alaa Alkurdi & Naïma Mazic im Foyer zu sehen. \nNaïma Mazic gründete 2016 den österreichischen Verein more2rhythm und die n ï m company. 2018/19 war sie Reisdenzchoreographin bei K3 Tanzplan Hamburg/ Kampnagel und machte den Master in Performance Studies an der NYU TISCH. Sie studierte in P.A.R.T.S.\, an der Reykjavik Academy of Arts\, AHK Amsterdam und dem MUK Wien. Naïma Mazic wurde zum HipHop Continuum vom Jacob’s Pillow Dance Festival eingeladen und ist ImPulsTanz DanceWeb15 Stipendiatin. Sie ist Tänzerin für die Choreografin Talia De Vries\, war choreografische Assistentin der Filmemacherin Athina Tsangari und der Choreografinnen Erna Òmarsdottir und Alix Eynaudi. Naïma Mazic konzentriert sich in ihrer Arbeit auf die musikalische Unabhängigkeit von Tänzer*innen mit unterschiedlichem Hintergrund und auf die Zusammenarbeit mit Jazzmusiker*innen. Mit ihrer n ï m company performte sie unter anderem in Havanna\, CAB Brüssel\, der Vienna Art Week\, Kunstraum NÖ\, der Judson Church NYC\, bei den Leipziger Jazztagen u.v.m. \nCredits\nKonzept & Choreografie Naïma Mazic Choreographische / dramaturgische Assistenz Fergus Johnson Musikalische Komposition Elias Stemeseder Tanz Yuika Hashimoto & Lucie Piot Synthesizer\, M-Claviton Georg Vogel Perkussion\, Schlagzeug\, Vibraphon und Spiegel Evi Filippou Bühnenbild Lola Drubigny Kostüm Maël Blau Dramaturgie Sara Ostertag Assistenz Christine Kern Mentoring Alain Franco\, Robyn Schulkowsky & Marcela Giesche Produktion more2rhythm/ Naïma Mazic \nEine Koproduktion von n ï m company//Naïma Mazic und imagetanz / brut Wien. Mit freundlicher Unterstützung der Kulturabteilung der Stadt Wien\, des Bundesministeriums für Kunst\, Kultur\, öffentlichen Dienst und Sport\, ACTOUT & ÖKF Berlin. Residencies & Research bei Lake Studios Berlin\, ImPulsTanz\, DOCK11 Eden***** Berlin\, D.ID Dance Identity\, workspace Brussels\, Le Regard du Cygne\, La Ménagerie de Verre. \n
URL:https://www.strawanzerin.at/termin/naima-mazic-n-i-m-company-poly-mirrors-a-re-performance-of-feminine-diagonals/2022-01-13/
LOCATION:brut nordwest\, Nordwestbahnstraße 8-10\, Wien\, Wien\, 1200\, Österreich
CATEGORIES:Feminismus,Kunst/Kultur,Musik,Tanz,Wien
ATTACH;FMTTYPE=image/jpeg:https://www.strawanzerin.at/wp-content/uploads/2021/12/web_BRUT_NaimaMazic_ChristineMiess_056.jpg
ORGANIZER;CN="brut%20Wien":MAILTO:info@brut-wien.at
END:VEVENT
END:VCALENDAR