BEGIN:VCALENDAR
VERSION:2.0
PRODID:-//STRAWANZERIN - ECPv4.9.5//NONSGML v1.0//EN
CALSCALE:GREGORIAN
METHOD:PUBLISH
X-WR-CALNAME:STRAWANZERIN
X-ORIGINAL-URL:https://www.strawanzerin.at
X-WR-CALDESC:Veranstaltungen im STRAWANZERIN
BEGIN:VTIMEZONE
TZID:"Europe/Vienna"
BEGIN:DAYLIGHT
TZOFFSETFROM:+0100
TZOFFSETTO:+0200
TZNAME:CEST
DTSTART:20260329T010000
END:DAYLIGHT
BEGIN:STANDARD
TZOFFSETFROM:+0200
TZOFFSETTO:+0100
TZNAME:CET
DTSTART:20261025T010000
END:STANDARD
END:VTIMEZONE
BEGIN:VEVENT
DTSTART;TZID="Europe/Vienna":20260527T180000
DTEND;TZID="Europe/Vienna":20260527T210000
DTSTAMP:20260423T151742
CREATED:20260416T134159Z
LAST-MODIFIED:20260416T134159Z
UID:113923-1779904800-1779915600@www.strawanzerin.at
SUMMARY:„(Na)ja\, nicht alles ist nur Ansichtssache“.
DESCRIPTION:Sonia Nier – Brigitte Tauer – Heinrich Wagner: „(Na)ja\, nicht alles ist nur Ansichtssache“.\nZeichnung und Malerei. Kunstbetrachtung und Gespräch \n
URL:https://www.strawanzerin.at/termin/naja-nicht-alles-ist-nur-ansichtssache/
LOCATION:SPÖ Ottakring\, Schuhmeierplatz 17-18\, Wien\, Wien\, 1160\, Österreich
CATEGORIES:Ausstellung,Gratis,Kunst/Kultur,Wien
ATTACH;FMTTYPE=image/jpeg:https://www.strawanzerin.at/wp-content/uploads/2026/04/2026_05_27-Nier-Tauer-Wagner-Eroeffnung-SPOE.jpg
ORGANIZER;CN="Ursula%20Pfeiffer%20verein%20%3A%3Akunst-projekte%3A%3A%20der%20%5Bgalerie%5Dstudio38%20zvr%20123612155":MAILTO:office@galeriestudio38.at
GEO:48.2108402;16.3192644
X-APPLE-STRUCTURED-LOCATION;VALUE=URI;X-ADDRESS=SPÖ Ottakring Schuhmeierplatz 17-18 Wien Wien 1160 Österreich;X-APPLE-RADIUS=500;X-TITLE=Schuhmeierplatz 17-18:geo:16.3192644,48.2108402
END:VEVENT
END:VCALENDAR