BEGIN:VCALENDAR
VERSION:2.0
PRODID:-//STRAWANZERIN - ECPv4.9.5//NONSGML v1.0//EN
CALSCALE:GREGORIAN
METHOD:PUBLISH
X-WR-CALNAME:STRAWANZERIN
X-ORIGINAL-URL:https://www.strawanzerin.at
X-WR-CALDESC:Veranstaltungen im STRAWANZERIN
BEGIN:VTIMEZONE
TZID:"Europe/Vienna"
BEGIN:DAYLIGHT
TZOFFSETFROM:+0100
TZOFFSETTO:+0200
TZNAME:CEST
DTSTART:20230326T010000
END:DAYLIGHT
BEGIN:STANDARD
TZOFFSETFROM:+0200
TZOFFSETTO:+0100
TZNAME:CET
DTSTART:20231029T010000
END:STANDARD
END:VTIMEZONE
BEGIN:VEVENT
DTSTART;TZID="Europe/Vienna":20230614T180000
DTEND;TZID="Europe/Vienna":20230614T213000
DTSTAMP:20260420T132630
CREATED:20230606T135004Z
LAST-MODIFIED:20230606T135004Z
UID:92122-1686765600-1686778200@www.strawanzerin.at
SUMMARY:NATUR UND LITERATUR - Literarischer Abend
DESCRIPTION:zum 200-jährigen Jubiläum der Eröffnung \nvom Volksgarten im Herzen Wiens \n  \nam 14. Juni 2023 um 18:00 Uhr\nin der Vinothek Miller-Aichholz\,\nFavoritenstraße 22\, 1040 Wien \nDanach sind alle zu einem Gespräch mit den Autorinnen und Autoren  \nbei Wein und Brot herzlichst eingeladen. \n  \n
URL:https://www.strawanzerin.at/termin/natur-und-literatur-literarischer-abend/
LOCATION:Vinothek Miller-Aichholz\, Favoritenstraße 22\, Wien\, Wien\, 1040\, Österreich
CATEGORIES:Gratis,Literatur,Wien
GEO:48.193654;16.3701987
X-APPLE-STRUCTURED-LOCATION;VALUE=URI;X-ADDRESS=Vinothek Miller-Aichholz Favoritenstraße 22 Wien Wien 1040 Österreich;X-APPLE-RADIUS=500;X-TITLE=Favoritenstraße 22:geo:16.3701987,48.193654
END:VEVENT
END:VCALENDAR