BEGIN:VCALENDAR
VERSION:2.0
PRODID:-//STRAWANZERIN - ECPv4.9.5//NONSGML v1.0//EN
CALSCALE:GREGORIAN
METHOD:PUBLISH
X-WR-CALNAME:STRAWANZERIN
X-ORIGINAL-URL:https://www.strawanzerin.at
X-WR-CALDESC:Veranstaltungen im STRAWANZERIN
BEGIN:VTIMEZONE
TZID:"Europe/Vienna"
BEGIN:DAYLIGHT
TZOFFSETFROM:+0100
TZOFFSETTO:+0200
TZNAME:CEST
DTSTART:20180325T010000
END:DAYLIGHT
BEGIN:STANDARD
TZOFFSETFROM:+0200
TZOFFSETTO:+0100
TZNAME:CET
DTSTART:20181028T010000
END:STANDARD
END:VTIMEZONE
BEGIN:VEVENT
DTSTART;TZID="Europe/Vienna":20180408T130000
DTEND;TZID="Europe/Vienna":20180408T150000
DTSTAMP:20260420T200632
CREATED:20180219T093413Z
LAST-MODIFIED:20180219T093413Z
UID:52432-1523192400-1523199600@www.strawanzerin.at
SUMMARY:„Neugierde“ in der Galerie Sandpeck Wien 8
DESCRIPTION:„Neugierde“ zeigt die Galerie Sandpeck Wien 8 \nEva Davidek präsentiert „Neugierde“\nÖl- und Aquarellmalerei \nVernissage mit Brunch:\nSonntag 8.4.2018 um 13Uhr mit Peter Hudler am Cello\nAusstellung täglich von 14-19Uhr bis Freitag 13.4.2018\,\nin der Galerie Sandpeck Wien 8\nFlorianigasse 75\, Ecke Uhlplatz\nfreier Eintritt!\nmehr www.sandpeck.com \n
URL:https://www.strawanzerin.at/termin/neugierde-in-der-galerie-sandpeck-wien-8/2018-04-08/
LOCATION:Galerie Sandpeck\, Florianigasse 75\, Wien\, Wien\, 1080\, Österreich
CATEGORIES:Ausstellung,Deutsch,Gratis,Kunst/Kultur,Wien
ATTACH;FMTTYPE=image/jpeg:https://www.strawanzerin.at/wp-content/uploads/2018/02/Davidek_Eva_Galerie_Sandpeck_Wien_8.jpg
ORGANIZER;CN="Galerie%20Sandpeck":MAILTO:christiane@sandpeck.com
GEO:48.2119839;16.3409609
X-APPLE-STRUCTURED-LOCATION;VALUE=URI;X-ADDRESS=Galerie Sandpeck Florianigasse 75 Wien Wien 1080 Österreich;X-APPLE-RADIUS=500;X-TITLE=Florianigasse 75:geo:16.3409609,48.2119839
END:VEVENT
END:VCALENDAR