BEGIN:VCALENDAR
VERSION:2.0
PRODID:-//STRAWANZERIN - ECPv4.9.5//NONSGML v1.0//EN
CALSCALE:GREGORIAN
METHOD:PUBLISH
X-WR-CALNAME:STRAWANZERIN
X-ORIGINAL-URL:https://www.strawanzerin.at
X-WR-CALDESC:Veranstaltungen im STRAWANZERIN
BEGIN:VTIMEZONE
TZID:"Europe/Helsinki"
BEGIN:DAYLIGHT
TZOFFSETFROM:+0200
TZOFFSETTO:+0300
TZNAME:EEST
DTSTART:20150329T010000
END:DAYLIGHT
BEGIN:STANDARD
TZOFFSETFROM:+0300
TZOFFSETTO:+0200
TZNAME:EET
DTSTART:20151025T010000
END:STANDARD
END:VTIMEZONE
BEGIN:VEVENT
DTSTART;TZID="Europe/Helsinki":20150411T100000
DTEND;TZID="Europe/Helsinki":20150411T170000
DTSTAMP:20260419T221204
CREATED:20150316T181800Z
LAST-MODIFIED:20150319T110756Z
UID:12537-1428746400-1428771600@www.strawanzerin.at
SUMMARY:Neuntes 1zu1-Vernetzungstreffen
DESCRIPTION:Eingeladen sind alle Menschen\, die Interesse an\nEntwicklungszusammenarbeit auf persönlicher Basis haben. \nDas neunte Vernetzungstreffen der Plattform „1zu1- Vernetzung entwickeln\, Entwicklung vernetzen“ (www.1zu1.at) findet am Samstag dem 11.April in Wien statt. Eingeladen sind alle Menschen\, die Interesse an Entwicklungszusammenarbeit auf persönlicher Basis haben.\nEs gibt in Österreich Hunderte kleiner Gruppen oder Einzelpersonen\, die sich auf ein ganz konkretes Projekt in einem so genannten „Entwicklungsland“ konzentrieren oder sich auf theoretischer Ebene mit dieser Thematik auseinandersetzen oder allgemein Interesse an der EZA hat.\nNeben viel Zeit und Raum für die Vernetzung und das Kennenlernen unter den anwesenden Initiativen wird es einen inhaltlichen Input von Mag.a Vera Besse zum Thema „Motivation in Gruppen“ geben.  \nWANN: Samstag\, 11. April 2015\nWO: Anton-Baumgartner-Straße 127; 1230 Wien\, Festsaal im 1. Stock \nInformationen und Anmeldung: 1zu1@nachhaltig.at \n
URL:https://www.strawanzerin.at/termin/neuntes-1zu1-vernetzungstreffen/
LOCATION:Österreich
CATEGORIES:Deutsch,Gratis,Sonstiges,Treffen,Wien
END:VEVENT
END:VCALENDAR