BEGIN:VCALENDAR
VERSION:2.0
PRODID:-//STRAWANZERIN - ECPv4.9.5//NONSGML v1.0//EN
CALSCALE:GREGORIAN
METHOD:PUBLISH
X-WR-CALNAME:STRAWANZERIN
X-ORIGINAL-URL:https://www.strawanzerin.at
X-WR-CALDESC:Veranstaltungen im STRAWANZERIN
BEGIN:VTIMEZONE
TZID:"Europe/Vienna"
BEGIN:DAYLIGHT
TZOFFSETFROM:+0100
TZOFFSETTO:+0200
TZNAME:CEST
DTSTART:20190331T010000
END:DAYLIGHT
BEGIN:STANDARD
TZOFFSETFROM:+0200
TZOFFSETTO:+0100
TZNAME:CET
DTSTART:20191027T010000
END:STANDARD
END:VTIMEZONE
BEGIN:VEVENT
DTSTART;TZID="Europe/Vienna":20190619T190000
DTEND;TZID="Europe/Vienna":20190619T210000
DTSTAMP:20260422T151146
CREATED:20190417T132052Z
LAST-MODIFIED:20190506T133744Z
UID:64388-1560970800-1560978000@www.strawanzerin.at
SUMMARY:Neuseeland Reisevortrag "3040 Kilometer zu Fuß durch Neuseeland"
DESCRIPTION:Inhalt:\nTitel:\n„Te Araroa Trail\, 3040 Km zu Fuß durch Neuseeland“\nReisevortrag von Roland Wiednig begleitet vom Duo NAA&!\nBeschreibung:\nEin einzigartiger Dia-Reisebericht eines wunderschönen Landes mit außergewöhnlichen Menschen\nund einem ungewöhnlichen Lifesyle. Ein Vortrag über eine unglaubliche Leistung\, über Freude und\nVerzweiflung\, Schönheit und Qualen und über Einsamkeit und echte Wunder.\n„Te Araroa\, the long Pathway\, nennen die Ureinwohner Neuseelands einen spektakulären Trail quer\ndurch ihre Heimat am anderen Ende der Welt.\n4 Monate und 10 Tage durchwanderte der Kronstorfer Roland Wiednig alleine auf diesem Te Araroa\nTrail die beiden Inseln Neuseelands von Süden nach Norden\, von Bluff nach Cape Reinga. 3.040\nKilometer zu Fuß mitten durch eine atemberaubende Wildnis\, durch Urwälder\, Schluchten und über\nmystische Hochebenen\, in denen Filme wie „Herr der Ringe“\, „Die Chroniken von Narnia“\,\n„Wolverine“\, „King Kong“ und viele mehr gedreht wurden. Flussüberquerungen begleiteten ihn\nebenso wie so mancher Kampf mit den Gezeiten! \nDiese Veranstaltung findet am 19.06.2019 in Wien 1190 VHS Döbling statt.\nTickets an der Abendkassa und über Oeticket erhältlich.\nhttps://www.oeticket.com/reisevortrag-neuseeland-wien-tickets.html?affiliate=B38&fun=evdetail&doc=evdetailb&key=2421128%2411824553&jumpIn=yTix&kuid=&from=erdetaila \n
URL:https://www.strawanzerin.at/termin/neuseeland-reisevortrag-3040-kilometer-zu-fuss-durch-neuseeland/
LOCATION:VHS Döbling\, Gatterburggasse 2A\, Wien\, Wien\, 1190\, Österreich
CATEGORIES:Wien
ATTACH;FMTTYPE=image/jpeg:https://www.strawanzerin.at/wp-content/uploads/2019/04/Plakat-1.jpg
ORGANIZER;CN="Roland%20Wiednig":MAILTO:office@orangebase.at
GEO:48.2389799;16.3500379
X-APPLE-STRUCTURED-LOCATION;VALUE=URI;X-ADDRESS=VHS Döbling Gatterburggasse 2A Wien Wien 1190 Österreich;X-APPLE-RADIUS=500;X-TITLE=Gatterburggasse 2A:geo:16.3500379,48.2389799
END:VEVENT
END:VCALENDAR