BEGIN:VCALENDAR
VERSION:2.0
PRODID:-//STRAWANZERIN - ECPv4.9.5//NONSGML v1.0//EN
CALSCALE:GREGORIAN
METHOD:PUBLISH
X-WR-CALNAME:STRAWANZERIN
X-ORIGINAL-URL:https://www.strawanzerin.at
X-WR-CALDESC:Veranstaltungen im STRAWANZERIN
BEGIN:VTIMEZONE
TZID:"Europe/Helsinki"
BEGIN:DAYLIGHT
TZOFFSETFROM:+0200
TZOFFSETTO:+0300
TZNAME:EEST
DTSTART:20140330T010000
END:DAYLIGHT
BEGIN:STANDARD
TZOFFSETFROM:+0300
TZOFFSETTO:+0200
TZNAME:EET
DTSTART:20141026T010000
END:STANDARD
END:VTIMEZONE
BEGIN:VEVENT
DTSTART;TZID="Europe/Helsinki":20141010T203000
DTEND;TZID="Europe/Helsinki":20141010T233000
DTSTAMP:20260420T143138
CREATED:20141003T102332Z
LAST-MODIFIED:20141006T080343Z
UID:7740-1412973000-1412983800@www.strawanzerin.at
SUMMARY:Nobertoprontos 60s Band im Industrie
DESCRIPTION:Freitag\, 10. Okt. – Beginn: 20:30 Uhr\nNobertoprontos 60s Band\nRock around the clock? Ganz sicher nicht\, aber ein fetziger Abend mit vertrauten Klängen aus den 60er Jahren\, präsentiert von der Rock-Formation rund um Nobertopronto\, den rasenden Gitarristen! \n
URL:https://www.strawanzerin.at/termin/nobertoprontos-60s-band-im-industrie/
LOCATION:Traditionscafé Industrie\, Margaretengürtel 12\, Wien\, Wien\, 1050\, Österreich
CATEGORIES:Deutsch,freie Spende,Musik,Sonstiges,Wien
ATTACH;FMTTYPE=:
ORGANIZER;CN="Ruth%20Binder":MAILTO:event@cafe-industrie.at
GEO:48.1838252;16.3664539
X-APPLE-STRUCTURED-LOCATION;VALUE=URI;X-ADDRESS=Traditionscafé Industrie Margaretengürtel 12 Wien Wien 1050 Österreich;X-APPLE-RADIUS=500;X-TITLE=Margaretengürtel 12:geo:16.3664539,48.1838252
END:VEVENT
END:VCALENDAR