BEGIN:VCALENDAR
VERSION:2.0
PRODID:-//STRAWANZERIN - ECPv4.9.5//NONSGML v1.0//EN
CALSCALE:GREGORIAN
METHOD:PUBLISH
X-WR-CALNAME:STRAWANZERIN
X-ORIGINAL-URL:https://www.strawanzerin.at
X-WR-CALDESC:Veranstaltungen im STRAWANZERIN
BEGIN:VTIMEZONE
TZID:"Europe/Vienna"
BEGIN:DAYLIGHT
TZOFFSETFROM:+0100
TZOFFSETTO:+0200
TZNAME:CEST
DTSTART:20170326T010000
END:DAYLIGHT
BEGIN:STANDARD
TZOFFSETFROM:+0200
TZOFFSETTO:+0100
TZNAME:CET
DTSTART:20171029T010000
END:STANDARD
END:VTIMEZONE
BEGIN:VEVENT
DTSTART;TZID="Europe/Vienna":20171106T200000
DTEND;TZID="Europe/Vienna":20171106T220000
DTSTAMP:20260423T144841
CREATED:20171006T124528Z
LAST-MODIFIED:20171010T115732Z
UID:47752-1509998400-1510005600@www.strawanzerin.at
SUMMARY:Noch ein Wodka! - Russisches Show-Konzert wärmt Leib und Seele
DESCRIPTION:Wenn die Tage kürzer\, die Nächte länger und die Temperaturen frischer werden\, ist es Zeit für einen heißblütigen\, temperamentvollen Abend russischer Prägung! Am Montag\, den 6. November 2017\, um 20 Uhr nehmen Prof. Petja Houdjakov\, Alexandra und Valerie Houdjakov sowie Solisten der Bolschoi Don Kosaken das Publikum im Wiener Metropol mit auf eine musikalische Reise von St. Petersburg über Paris und Berlin nach Wien. Auf dem Programm stehen beliebte Chansons\, Tanzeinlagen und Ausschnitte aus dem Ballett »Rasputin«. Ebenfalls für gute Stimmung sorgen die Slawischen Tenöre. \n  Info:\nTel.: 01 407 77 407 \nBild: © Bolschoi Don Kosaken \n
URL:https://www.strawanzerin.at/termin/noch-ein-wodka-russisches-show-konzert-waermt-leib-und-seele/
LOCATION:Metropol\, Hernalser Hauptstraße 55\, Wien\, Wien\, 1070\, Österreich
CATEGORIES:ab 7,Musik,Wien
ATTACH;FMTTYPE=image/jpeg:https://www.strawanzerin.at/wp-content/uploads/2017/10/RussischerAbendMetropol2017.jpg
GEO:48.2174865;16.3342689
X-APPLE-STRUCTURED-LOCATION;VALUE=URI;X-ADDRESS=Metropol Hernalser Hauptstraße 55 Wien Wien 1070 Österreich;X-APPLE-RADIUS=500;X-TITLE=Hernalser Hauptstraße 55:geo:16.3342689,48.2174865
END:VEVENT
END:VCALENDAR