BEGIN:VCALENDAR
VERSION:2.0
PRODID:-//STRAWANZERIN - ECPv4.9.5//NONSGML v1.0//EN
CALSCALE:GREGORIAN
METHOD:PUBLISH
X-WR-CALNAME:STRAWANZERIN
X-ORIGINAL-URL:https://www.strawanzerin.at
X-WR-CALDESC:Veranstaltungen im STRAWANZERIN
BEGIN:VTIMEZONE
TZID:"Europe/Helsinki"
BEGIN:DAYLIGHT
TZOFFSETFROM:+0200
TZOFFSETTO:+0300
TZNAME:EEST
DTSTART:20150329T010000
END:DAYLIGHT
BEGIN:STANDARD
TZOFFSETFROM:+0300
TZOFFSETTO:+0200
TZNAME:EET
DTSTART:20151025T010000
END:STANDARD
END:VTIMEZONE
BEGIN:VEVENT
DTSTART;TZID="Europe/Helsinki":20151212T203000
DTEND;TZID="Europe/Helsinki":20151212T230000
DTSTAMP:20260422T040409
CREATED:20151123T132813Z
LAST-MODIFIED:20151125T133213Z
UID:21982-1449952200-1449961200@www.strawanzerin.at
SUMMARY:Norbertopronto & The 60s Band
DESCRIPTION:Heiße Musik macht auch vor der Adventzeit nicht halt – niemals! Die 1960er – eine ungemein kreative Zeit. Dieser Abend wird ein Wiederhören von vertrauten Klängen\, präsentiert von der Rockformation rund um den rasenden Gitarristen Norbertopronto!  \n
URL:https://www.strawanzerin.at/termin/norbertopronto-the-60s-band-2/
LOCATION:Traditionscafé Industrie\, Margaretengürtel 12\, Wien\, Wien\, 1050\, Österreich
CATEGORIES:Deutsch,freie Spende,Kunst/Kultur,Musik,Wien
ATTACH;FMTTYPE=image/jpeg:https://www.strawanzerin.at/wp-content/uploads/2015/11/norbertopronto_fb.jpg
ORGANIZER;CN="Ruth%20Binder":MAILTO:event@cafe-industrie.at
GEO:48.1838252;16.3664539
X-APPLE-STRUCTURED-LOCATION;VALUE=URI;X-ADDRESS=Traditionscafé Industrie Margaretengürtel 12 Wien Wien 1050 Österreich;X-APPLE-RADIUS=500;X-TITLE=Margaretengürtel 12:geo:16.3664539,48.1838252
END:VEVENT
END:VCALENDAR