BEGIN:VCALENDAR
VERSION:2.0
PRODID:-//STRAWANZERIN - ECPv4.9.5//NONSGML v1.0//EN
CALSCALE:GREGORIAN
METHOD:PUBLISH
X-WR-CALNAME:STRAWANZERIN
X-ORIGINAL-URL:https://www.strawanzerin.at
X-WR-CALDESC:Veranstaltungen im STRAWANZERIN
BEGIN:VTIMEZONE
TZID:"Europe/Helsinki"
BEGIN:DAYLIGHT
TZOFFSETFROM:+0200
TZOFFSETTO:+0300
TZNAME:EEST
DTSTART:20160327T010000
END:DAYLIGHT
BEGIN:STANDARD
TZOFFSETFROM:+0300
TZOFFSETTO:+0200
TZNAME:EET
DTSTART:20161030T010000
END:STANDARD
END:VTIMEZONE
BEGIN:VEVENT
DTSTART;TZID="Europe/Helsinki":20160325T193000
DTEND;TZID="Europe/Helsinki":20160325T220000
DTSTAMP:20260422T005507
CREATED:20160224T081945Z
LAST-MODIFIED:20160308T172754Z
UID:24834-1458934200-1458943200@www.strawanzerin.at
SUMMARY:NORMAL!)
DESCRIPTION:In einer Welt\, in der dein Psychotherapeut zum täglichen Leben gehört\, versucht Benjamin Turecek verzweifelt normal zu sein. Aber erstens ist er Künstler und die sind sowieso nicht normal. Und zweitens trifft er überall wo er hinkommt – egal ob Arbeit\, Supermarkt oder Arzt – noch verrücktere Menschen. Wird es ihm gelingen normal zu werden oder ist er jetzt schon ein Fall für die Psychiatrie? \nEin unterhaltsames Kabarett über den Wahnsinn in allen Lebenslagen \n
URL:https://www.strawanzerin.at/termin/normal-2/
LOCATION:Österreich
CATEGORIES:Deutsch,Eintrittspreis,Kunst/Kultur,Theater/Kabarett,Wien
ATTACH;FMTTYPE=image/jpeg:https://www.strawanzerin.at/wp-content/uploads/2016/02/foto_normal.jpg
ORGANIZER;CN="Kulturverein%20Tschocherl":MAILTO:tschocherl@chello.at
END:VEVENT
END:VCALENDAR