BEGIN:VCALENDAR
VERSION:2.0
PRODID:-//STRAWANZERIN - ECPv4.9.5//NONSGML v1.0//EN
CALSCALE:GREGORIAN
METHOD:PUBLISH
X-WR-CALNAME:STRAWANZERIN
X-ORIGINAL-URL:https://www.strawanzerin.at
X-WR-CALDESC:Veranstaltungen im STRAWANZERIN
BEGIN:VTIMEZONE
TZID:"Europe/Vienna"
BEGIN:DAYLIGHT
TZOFFSETFROM:+0100
TZOFFSETTO:+0200
TZNAME:CEST
DTSTART:20180325T010000
END:DAYLIGHT
BEGIN:STANDARD
TZOFFSETFROM:+0200
TZOFFSETTO:+0100
TZNAME:CET
DTSTART:20181028T010000
END:STANDARD
END:VTIMEZONE
BEGIN:VEVENT
DTSTART;TZID="Europe/Vienna":20180316T200000
DTEND;TZID="Europe/Vienna":20180316T220000
DTSTAMP:20260421T155936
CREATED:20180204T113140Z
LAST-MODIFIED:20180204T113140Z
UID:51999-1521230400-1521237600@www.strawanzerin.at
SUMMARY:norway.today: Starkes Stück über Todessehnsucht und Lebensmut der Jugend
DESCRIPTION:Was geschieht\, wenn sich zwei Menschen treffen\, die das Leben satt haben? In Igor Bauersimas Stück sind es zwei junge Menschen\, die sich zum gemeinsamen Sprung in den Tod verabreden. Plötzlich finden sie sich jedoch mit dem Leben und den Fragen nach dem Sinn konfrontiert. Wie werden sie sich entscheiden? Am 16. und 17. März um 20 Uhr steht die liebevolle sowie erschütternde Geschichte in der Inszenierung von Ursula Leitner (Theaterverein »handikapped unicorns«) mit Matti Melchinger und Julia Sailer im Freien Theater Innsbruck auf dem Spielplan. \nBild: Julia Sailer und Matti Melchinger in »norway.today«\, Foto/© Barbara Pálffy \n
URL:https://www.strawanzerin.at/termin/norway-today-starkes-stueck-ueber-todessehnsucht-und-lebensmut-der-jugend-2/2018-03-16/
LOCATION:Freies Theater Innsbruck\, Wilhelm-Greil-Straße 23\, Innsbruck\, Tirol\, 6020\, Österreich
CATEGORIES:ab 7,Theater/Kabarett,Tirol
ATTACH;FMTTYPE=image/png:https://www.strawanzerin.at/wp-content/uploads/2018/02/image001.png
GEO:47.2635397;11.3968413
X-APPLE-STRUCTURED-LOCATION;VALUE=URI;X-ADDRESS=Freies Theater Innsbruck Wilhelm-Greil-Straße 23 Innsbruck Tirol 6020 Österreich;X-APPLE-RADIUS=500;X-TITLE=Wilhelm-Greil-Straße 23:geo:11.3968413,47.2635397
END:VEVENT
END:VCALENDAR