BEGIN:VCALENDAR
VERSION:2.0
PRODID:-//STRAWANZERIN - ECPv4.9.5//NONSGML v1.0//EN
CALSCALE:GREGORIAN
METHOD:PUBLISH
X-WR-CALNAME:STRAWANZERIN
X-ORIGINAL-URL:https://www.strawanzerin.at
X-WR-CALDESC:Veranstaltungen im STRAWANZERIN
BEGIN:VTIMEZONE
TZID:"Europe/Helsinki"
BEGIN:DAYLIGHT
TZOFFSETFROM:+0200
TZOFFSETTO:+0300
TZNAME:EEST
DTSTART:20170326T010000
END:DAYLIGHT
BEGIN:STANDARD
TZOFFSETFROM:+0300
TZOFFSETTO:+0200
TZNAME:EET
DTSTART:20171029T010000
END:STANDARD
END:VTIMEZONE
BEGIN:VEVENT
DTSTART;TZID="Europe/Helsinki":20170318T130000
DTEND;TZID="Europe/Helsinki":20170318T143000
DTSTAMP:20260422T041659
CREATED:20170123T101926Z
LAST-MODIFIED:20170123T101926Z
UID:38807-1489842000-1489847400@www.strawanzerin.at
SUMMARY:Öffentliche Campusführungen der Universität Wien
DESCRIPTION:Das Areal des ehemaligen Allgemeinen Krankenhauses dient seit 1998 als Campus der Universität Wien. Ein geführter Spaziergang durch die Höfe gibt Einblick in die vielfältige Geschichte der Gebäude. Man erfährt von der Nutzung als Armenhaus sowie Militärkrankenhaus und Gebäranstalt\, über die Verwendung als Universitäts-kliniken bis hin zur heutigen Nutzung als modernes Wissenschaftszentrum für Forschung und Lehre. In dieser Funktion beheimatet der Campus der Universität Wien hauptsächlich Fachbereiche der Historisch-Kulturwissenschaftlichen und der Philologisch-Kulturwissenschaftlichen Fakultät.  \nTreffpunkt: Karlik-Tor (Ecke Alserstraße/Otto-Wagner-Platz/Ostarrichi-Park)  \nDie Führungen finden jeweils um 13:00 Uhr statt. \nFür die Führungen im Freien empfehlen wir entsprechende Kleidung. Öffentliche Führungen durch das Hauptgebäude der Universität Wien finden um 10:30 Uhr statt und können mit den Campusführungen kombiniert werden. (Dauer: ca. 90 min.) \n
URL:https://www.strawanzerin.at/termin/oeffentliche-campusfuehrungen-der-universitaet-wien/2017-03-18/
CATEGORIES:Bildung,Deutsch,Eintrittspreis,Rundgang,Wien
ORGANIZER;CN="Veranstaltungsmanamgenet%20der%20Universit%C3%A4t%20Wien":MAILTO:event@univie.ac.at
END:VEVENT
END:VCALENDAR