BEGIN:VCALENDAR
VERSION:2.0
PRODID:-//STRAWANZERIN - ECPv4.9.5//NONSGML v1.0//EN
CALSCALE:GREGORIAN
METHOD:PUBLISH
X-WR-CALNAME:STRAWANZERIN
X-ORIGINAL-URL:https://www.strawanzerin.at
X-WR-CALDESC:Veranstaltungen im STRAWANZERIN
BEGIN:VTIMEZONE
TZID:"Europe/Vienna"
BEGIN:DAYLIGHT
TZOFFSETFROM:+0100
TZOFFSETTO:+0200
TZNAME:CEST
DTSTART:20200329T010000
END:DAYLIGHT
BEGIN:STANDARD
TZOFFSETFROM:+0200
TZOFFSETTO:+0100
TZNAME:CET
DTSTART:20201025T010000
END:STANDARD
END:VTIMEZONE
BEGIN:VEVENT
DTSTART;TZID="Europe/Vienna":20200204T190000
DTEND;TZID="Europe/Vienna":20200204T210000
DTSTAMP:20260423T175814
CREATED:20200124T175505Z
LAST-MODIFIED:20200130T104733Z
UID:71642-1580842800-1580850000@www.strawanzerin.at
SUMMARY:Österreich-Premiere: Der Gedanke Dazusein & Podiumsdiskussion
DESCRIPTION:In Kooperation mit der Volkshilfe Wien zeigen die Journalist*innen Valentine Auer & Benjamin Storck ihren Dokumentarfilm „Der Gedanke Dazusein“. Nach dieser Österreich-Premiere werden die im Film behandelten Themen bei einer Podiumsdiskussion vertieft.  \nFILMSCREENING || Der Gedanke Dazusein. 5 Projekte für das Zusammenleben.\n„Der Gedanke Dazusein“ beleuchtet anhand von fünf Projekten\, wie ein gutes Zusammenleben in Deutschland und Österreich von Menschen mit und ohne Fluchterfahrung aussehen kann. Durch Stimmen von Geflüchteten\, Projektleiter*innen und Expert*innen fragt der Dokumentarfilm exemplarisch nach Bedingungen\, um das Recht auf Wohnen\, Arbeit und Bildung\, auf gesellschaftliche Teilhabe und auf Gesundheitsversorgung verwirklichen zu können.\nMehr Infos: //der-gedanke-dazusein.org/  \nPODIUMSDISKUSSION || Möglichkeitsräume & unmögliche Rahmenbedingungen: der Weg zu einer inklusiven Gesellschaft.\nAufbauend auf dem Film „Der Gedanke Dazusein“ werfen wir einen Blick auf den Status Quo zivilgesellschaftlicher Projekte im Integrationsbereich sowie auf den Einfluss politischer Maßnahmen auf diese Projekte und deren Beteiligte. Aus verschiedenen Perspektiven sprechen Expert*innen über bestehende Möglichkeitsräume in Österreich\, in denen für eine offene und inklusive Gesellschaft gekämpft wird. Wissenschaftler*innen\, zivilgesellschaftliche Projekte und Geflüchtete zeichnen die Entwicklungen der letzten Jahre nach\, sie sprechen über aktuelle Bedarfe und notwendige politische Maßnahmen. Sie lassen uns an ihren Idealvorstellungen einer inklusiven Gesellschaft teilhaben\, erzählen aber auch von unmöglichen politischen Rahmenbedingungen aufgrund derer ihre Arbeit\, ihr Alltag erschwert wird.  \nMIT:\nJudith Kohlenberger (Migrationsforscherin\, WU Wien)\nKlaus Maurer (Abteilungsleiter Mobile Wohnungslosenhilfe der Volkshilfe Wien)\nSina Farahmandnia (Vielmehr für alle)\nFremde werden Freunde\, angefragt\nModeration: Doris Moravec (Volkshilfe Wien) \nWANN: 4. Februar 2020\, 19:00 WO: Schikaneder\, Margaretenstraße 24\, 1040 Wien \nEINTRITT: FREIE SPENDE (um die Veranstaltungskosten begleichen zu können\, der Rest geht an die Volkshilfe Wien) \nFB-Event: //www.facebook.com/events/516261998990402/ /// In Kooperation mit der Volkshilfe Wien! \n
URL:https://www.strawanzerin.at/termin/oesterreich-premiere-der-gedanke-dazusein-podiumsdiskussion/
LOCATION:Schikaneder\, Margaretenstraße 24\, Wien\, Wien\, 1040\, Österreich
CATEGORIES:Film
ATTACH;FMTTYPE=image/png:https://www.strawanzerin.at/wp-content/uploads/2020/01/flyer_4_2_dergedankedazusein.png
GEO:48.196565;16.3650641
X-APPLE-STRUCTURED-LOCATION;VALUE=URI;X-ADDRESS=Schikaneder Margaretenstraße 24 Wien Wien 1040 Österreich;X-APPLE-RADIUS=500;X-TITLE=Margaretenstraße 24:geo:16.3650641,48.196565
END:VEVENT
END:VCALENDAR