BEGIN:VCALENDAR
VERSION:2.0
PRODID:-//STRAWANZERIN - ECPv4.9.5//NONSGML v1.0//EN
CALSCALE:GREGORIAN
METHOD:PUBLISH
X-WR-CALNAME:STRAWANZERIN
X-ORIGINAL-URL:https://www.strawanzerin.at
X-WR-CALDESC:Veranstaltungen im STRAWANZERIN
BEGIN:VTIMEZONE
TZID:"Europe/Helsinki"
BEGIN:DAYLIGHT
TZOFFSETFROM:+0200
TZOFFSETTO:+0300
TZNAME:EEST
DTSTART:20160327T010000
END:DAYLIGHT
BEGIN:STANDARD
TZOFFSETFROM:+0300
TZOFFSETTO:+0200
TZNAME:EET
DTSTART:20161030T010000
END:STANDARD
END:VTIMEZONE
BEGIN:VEVENT
DTSTART;TZID="Europe/Helsinki":20161113T190000
DTEND;TZID="Europe/Helsinki":20161113T210000
DTSTAMP:20260421T224106
CREATED:20161022T153105Z
LAST-MODIFIED:20161027T171400Z
UID:35655-1479063600-1479070800@www.strawanzerin.at
SUMMARY:Österreichische Impro-Meisterschaft
DESCRIPTION:Die Besten aus dem Osten kämpfen in bewährter Sport-vor-Ort-Manier um ihr Ticket in Richtung Stockerlplatz bei den Österreichischen Impro-Meisterschaften! Drei Gruppen aus Wien (English Lovers\, Sollbruchstelle und 12 vor Fuchs) sind bereits fix gesetzt. Das TAG und die Gruppe 12 vor Fuchs veranstalten nun gemeinsam die Vorausscheidung unter weiteren Gruppen aus Wien\, Niederösterreich und dem Burgenland\, um den letzten Teilnehmer beim Österreich-Finale im Linzer Posthof zu ermitteln. \nUnd so geht’s: Am ersten Abend am Samstag\, 12. November 2016\, um 20.00 Uhr spielen im Halbfinale im Festsaal am Wiedner Gürtel 68\, 1040 Wien\, folgende Gruppen: \n1stLAIC\nFreilos\nImprovista Social Club\nPeekaboo\nX-O\n12 vor Fuchs \num den Einzug ins Finale. \nSelbiges findet mit den besten zwei Gruppen aus dem Halbfinale und einem Qualifikanten aus Graz am 13.11.2016 im TAG statt! \nDas Publikum entscheidet\, welche Gruppe schließlich Ende November in den Linzer Posthof zum traditionellen Österreich-Finale fährt. \nMODERATION Rupert Lehofer\nMUSIK Belush Korenyi \nKARTEN VVK/AK und online: 12 Euro\, AK ermäßigt: 8 Euro \n
URL:https://www.strawanzerin.at/termin/oesterreichische-impro-meisterschaft/
CATEGORIES:Theater/Kabarett,Wien
END:VEVENT
END:VCALENDAR