BEGIN:VCALENDAR
VERSION:2.0
PRODID:-//STRAWANZERIN - ECPv4.9.5//NONSGML v1.0//EN
CALSCALE:GREGORIAN
METHOD:PUBLISH
X-WR-CALNAME:STRAWANZERIN
X-ORIGINAL-URL:https://www.strawanzerin.at
X-WR-CALDESC:Veranstaltungen im STRAWANZERIN
BEGIN:VTIMEZONE
TZID:"Europe/Helsinki"
BEGIN:DAYLIGHT
TZOFFSETFROM:+0200
TZOFFSETTO:+0300
TZNAME:EEST
DTSTART:20150329T010000
END:DAYLIGHT
BEGIN:STANDARD
TZOFFSETFROM:+0300
TZOFFSETTO:+0200
TZNAME:EET
DTSTART:20151025T010000
END:STANDARD
END:VTIMEZONE
BEGIN:VEVENT
DTSTART;TZID="Europe/Helsinki":20150116T180000
DTEND;TZID="Europe/Helsinki":20150116T200000
DTSTAMP:20260422T003658
CREATED:20150110T203203Z
LAST-MODIFIED:20150110T203203Z
UID:10749-1421431200-1421438400@www.strawanzerin.at
SUMMARY:Offenes Treffen Solidarische Ökonomie
DESCRIPTION:OFFENES TREFFEN SOLIDARISCHE ÖKONOMIE \nLasst uns neue Projekte angehen! \nDafür laden wir dich am\nFr\, 16. Jänner 2015\, um 18 Uhr\nin das Amerlinghaus\, Stiftgasse 8\, 1070 Wien\, ein. \nWir – die geschrumpfte Orgagruppe vom Solidarische Ökonomie Kongress 2013 – wollen neue Impulse setzen\, um solidarische Ökonomien weiter bekannt zu machen und voranzubringen. Wir möchten damit am Kongress Solidarische Ökonomie 2013 (Dokumentation hoffentlich bald wieder online: http://solidarische-oekonomie.at/de/) anknüpfen. Doch in der momentanen Zusammensetzung fehlen uns die Kapazitäten um weitere Projekte zu planen und umzusetzen. Dafür braucht es deine Energie\, deine Lust\, dein Wissen! \nWas sind aus deiner Sicht die drängenden Themen\, wo es wichtig wäre\, gemeinsam voranzugehen? Um das zu besprechen und gemeinsam Pläne für ein weiteres Vorgehen zu schmieden\, wollen wir uns bei dem Treffen Zeit nehmen. \nEinige Themen\, an die wir als Organisationsgruppe gedacht haben:\n• Unabhängigkeit solidarökonomischer Initiativen\n• Politische und rechtliche Beratung für Initiativen\n• Bildungs- und Vernetzungsarbeit\n• Entwicklung gemeinsamer Strategien zur Stärkung solidarischer Ökonomien\n• Unterstützung des Kongresses für Solidarische Ökonomie in Berlin 2015 konkretisieren \nDie genannten Punkte haben bloß Vorschlagscharakter. Komm vorbei und bring Themen ein\, die dir unter den Nägeln brennen!\nUnd bitte leite die Einladung auch an andere weiter\, die interessiert sein könnten\, sich einzubringen. \nWir freuen uns auf ein Treffen am 16. Jänner! \nDie SÖK13 Orgagruppe \n
URL:https://www.strawanzerin.at/termin/offenes-treffen-solidarische-oekonomie/
LOCATION:Österreich
CATEGORIES:Deutsch,Gratis,Soziale Kämpfe,Treffen,Wien
ORGANIZER;CN="S%C3%96K13%20Orgagruppe":MAILTO:info@solidarische-oekonomie.at
END:VEVENT
END:VCALENDAR