BEGIN:VCALENDAR
VERSION:2.0
PRODID:-//STRAWANZERIN - ECPv4.9.5//NONSGML v1.0//EN
CALSCALE:GREGORIAN
METHOD:PUBLISH
X-WR-CALNAME:STRAWANZERIN
X-ORIGINAL-URL:https://www.strawanzerin.at
X-WR-CALDESC:Veranstaltungen im STRAWANZERIN
BEGIN:VTIMEZONE
TZID:"Europe/Vienna"
BEGIN:DAYLIGHT
TZOFFSETFROM:+0100
TZOFFSETTO:+0200
TZNAME:CEST
DTSTART:20240331T010000
END:DAYLIGHT
BEGIN:STANDARD
TZOFFSETFROM:+0200
TZOFFSETTO:+0100
TZNAME:CET
DTSTART:20241027T010000
END:STANDARD
END:VTIMEZONE
BEGIN:VEVENT
DTSTART;TZID="Europe/Vienna":20241218T180000
DTEND;TZID="Europe/Vienna":20241218T180000
DTSTAMP:20260425T155210
CREATED:20241125T195830Z
LAST-MODIFIED:20241125T195830Z
UID:104922-1734544800-1734544800@www.strawanzerin.at
SUMMARY:„Oh\, it’s a feminist Xmas“ – Eine be/sinnliche und häretische Feierei
DESCRIPTION:Weihnachts- und Jahresabschlussfeier\nWir haben heuer ein exquisites Programm zusammenstellen können; wie immer eine Improvisation mit Text und Musik. Die ausgezeichnete Autorin Irene Diwiak liest aus ihrem neuen Roman „Die allerletzte Kaiserin“; die Klarinettistinnen Viktoria Hofmarcher und Elena Arbonies Jaruegui spielen für uns. \nModeration: Birge Krondorfer \nAnschließend genussvolle Speisen und nicht/alkoholische Getränke. \nDas Fest ist für Frauen. \nDie Veranstaltung verdankt sich der Unterstützung der MA7 Kultur. \n
URL:https://www.strawanzerin.at/termin/oh-its-a-feminist-xmas-eine-be-sinnliche-und-haeretische-feierei/
LOCATION:Frauenbildungsstätte Frauenhetz\, Untere Weißgerberstraße 41\, Wien\, Wien\, 1030\, Österreich
CATEGORIES:Barrierefrei,Essen/Vokü,Feminismus,Fest,Gratis,Literatur,Musik,Queer,Wien
GEO:48.2084854;16.3946163
X-APPLE-STRUCTURED-LOCATION;VALUE=URI;X-ADDRESS=Frauenbildungsstätte Frauenhetz Untere Weißgerberstraße 41 Wien Wien 1030 Österreich;X-APPLE-RADIUS=500;X-TITLE=Untere Weißgerberstraße 41:geo:16.3946163,48.2084854
END:VEVENT
END:VCALENDAR