BEGIN:VCALENDAR
VERSION:2.0
PRODID:-//STRAWANZERIN - ECPv4.9.5//NONSGML v1.0//EN
CALSCALE:GREGORIAN
METHOD:PUBLISH
X-WR-CALNAME:STRAWANZERIN
X-ORIGINAL-URL:https://www.strawanzerin.at
X-WR-CALDESC:Veranstaltungen im STRAWANZERIN
BEGIN:VTIMEZONE
TZID:"Europe/Helsinki"
BEGIN:DAYLIGHT
TZOFFSETFROM:+0200
TZOFFSETTO:+0300
TZNAME:EEST
DTSTART:20150329T010000
END:DAYLIGHT
BEGIN:STANDARD
TZOFFSETFROM:+0300
TZOFFSETTO:+0200
TZNAME:EET
DTSTART:20151025T010000
END:STANDARD
END:VTIMEZONE
BEGIN:VEVENT
DTSTART;TZID="Europe/Helsinki":20151022T193000
DTEND;TZID="Europe/Helsinki":20151022T193000
DTSTAMP:20260421T033340
CREATED:20151006T132223Z
LAST-MODIFIED:20151007T093225Z
UID:20158-1445542200-1445542200@www.strawanzerin.at
SUMMARY:(OHNE) BESUCHER
DESCRIPTION:Eröffnung: Donnerstag\, 22. Oktober 2015\, 19:30 Uhr\nBegrüßung: Kurt Neuhold\nEröffnung: Nora Sonderegger \nVater und Tochter machen zusammen eine Ausstellung. Er hat menschenleere Sommerbäder im Winter fotografiert\, sie Besucher im Museum.\nLea Sonderegger studiert Fotografie an der Graphischen\, Wenzel Müller macht Fotografie und schreibt darüber (Autor der Bücher „Fotografieren statt knipsen“ und „Fotografie: Zeichnen mit Licht“). \n
URL:https://www.strawanzerin.at/termin/ohne-besucher/2015-10-22/
LOCATION:Österreich
CATEGORIES:Ausstellung,freie Spende,Wien
ATTACH;FMTTYPE=image/jpeg:https://www.strawanzerin.at/wp-content/uploads/2015/10/1.jpg
ORGANIZER;CN="POOL7":MAILTO:office@pool7.at
END:VEVENT
END:VCALENDAR