BEGIN:VCALENDAR
VERSION:2.0
PRODID:-//STRAWANZERIN - ECPv4.9.5//NONSGML v1.0//EN
CALSCALE:GREGORIAN
METHOD:PUBLISH
X-WR-CALNAME:STRAWANZERIN
X-ORIGINAL-URL:https://www.strawanzerin.at
X-WR-CALDESC:Veranstaltungen im STRAWANZERIN
BEGIN:VTIMEZONE
TZID:"Europe/Vienna"
BEGIN:DAYLIGHT
TZOFFSETFROM:+0100
TZOFFSETTO:+0200
TZNAME:CEST
DTSTART:20170326T010000
END:DAYLIGHT
BEGIN:STANDARD
TZOFFSETFROM:+0200
TZOFFSETTO:+0100
TZNAME:CET
DTSTART:20171029T010000
END:STANDARD
END:VTIMEZONE
BEGIN:VEVENT
DTSTART;TZID="Europe/Vienna":20170916T190000
DTEND;TZID="Europe/Vienna":20170916T210000
DTSTAMP:20260422T061536
CREATED:20170815T073712Z
LAST-MODIFIED:20170816T074320Z
UID:45933-1505588400-1505595600@www.strawanzerin.at
SUMMARY:Oktober\, Revolution\, Wikipedia  - Halbwissen aus dem Internet
DESCRIPTION:Ein Kabarett-Abend mit „Chevapcici“ – Benjamin Gumpenberger \n
URL:https://www.strawanzerin.at/termin/oktober-revolution-wikipedia-halbwissen-aus-dem-internet/
CATEGORIES:Theater/Kabarett
ORGANIZER;CN="Werkl%20im%20Goethehof":MAILTO:info@werkl.org
END:VEVENT
END:VCALENDAR