BEGIN:VCALENDAR
VERSION:2.0
PRODID:-//STRAWANZERIN - ECPv4.9.5//NONSGML v1.0//EN
CALSCALE:GREGORIAN
METHOD:PUBLISH
X-WR-CALNAME:STRAWANZERIN
X-ORIGINAL-URL:https://www.strawanzerin.at
X-WR-CALDESC:Veranstaltungen im STRAWANZERIN
BEGIN:VTIMEZONE
TZID:"Europe/Helsinki"
BEGIN:DAYLIGHT
TZOFFSETFROM:+0200
TZOFFSETTO:+0300
TZNAME:EEST
DTSTART:20150329T010000
END:DAYLIGHT
BEGIN:STANDARD
TZOFFSETFROM:+0300
TZOFFSETTO:+0200
TZNAME:EET
DTSTART:20151025T010000
END:STANDARD
END:VTIMEZONE
BEGIN:VEVENT
DTSTART;TZID="Europe/Helsinki":20150408T200000
DTEND;TZID="Europe/Helsinki":20150408T220000
DTSTAMP:20260423T195305
CREATED:20150320T141350Z
LAST-MODIFIED:20150325T090146Z
UID:12614-1428523200-1428530400@www.strawanzerin.at
SUMMARY:Olga Minski & Harald Pesata - „Die Große Häfenelegie“ von Herwig Seeböck
DESCRIPTION:Wenn die Wiener Kabarettistin\, Pianistin und Songwriterin Olga Minski und der Wiener Autor\, Mundartdichter und Geschichtenerzähler Harald Pesata gemeinsam auf der Bühne stehen\, um Herwig Seeböcks „Große Häfenelegie“ aufzuführen\, dann ist ein Abend mit lachtränenfeuchten Augen vorprogrammiert. Die beiden Freunde verfolgen verschiedene künstlerische Wege\, gehen ihren eigenen Musikprogrammen und literarischen Projekten nach\, aber hin und wieder kommen sie zusammen und lassen dieses Paradestück des Wiener Dialekts wieder auferstehen\, damit es in unserer schnelllebigen Zeit nicht ganz in Vergessenheit gerät. \nHarald Pesata führt als Erzähler durch diese humorvolle Geschichte des Gefängnisalltags des Jahres 1964\, gleichzeitig stellt er sämtliche handelnde Personen selbst dar. Ob Haflinger (Gefängnisinsassen) oder KAS (Justizwachebeamte)\, Pesata reichen eine Häftlingsmütze\, eine Schirmkappe der Justizwache\, seine Stimme und seine Mimik\, um den verschiedenen Charakteren mit ihren unterschiedlichen Welt- und Rechtsanschauungen für einen Abend wieder neues Leben einzuhauchen. \nOlga Minski hat eigens für dieses Stück ihre „Häfenlieder“ komponiert und getextet\, die sie geschickt in die Handlung einflechtet. In ihrer bekannt feinfühligen\, aber auch sehr spitzzüngigen geradlinigen Art\, spielt und singt sie von den kleineren und größeren Alltagsfreuden der kleinen Frau und des kleinen Mannes von der Straße; aber auch die Sorgen der Menschen und deren Abgründe selbst verschweigt sie nicht. \n
URL:https://www.strawanzerin.at/termin/olga-minski-harald-pesata-die-grosse-haefenelegie-von-herwig-seeboeck/
LOCATION:Vienna Globetrampers Headquarter\, Beckmanngasse 72\, Wien\, Wien\, 1150\, Österreich
CATEGORIES:Deutsch,freie Spende,Sonstiges,Theater/Kabarett,Wien
ATTACH;FMTTYPE=image/jpeg:https://www.strawanzerin.at/wp-content/uploads/2015/03/haefenelegie_headquarter_fb.jpg
ORGANIZER;CN="Vienna%20Globetrampers%20Headquarter":MAILTO:office@viennaglobetrampers.org 
GEO:48.1982082;16.3143987
X-APPLE-STRUCTURED-LOCATION;VALUE=URI;X-ADDRESS=Vienna Globetrampers Headquarter Beckmanngasse 72 Wien Wien 1150 Österreich;X-APPLE-RADIUS=500;X-TITLE=Beckmanngasse 72:geo:16.3143987,48.1982082
END:VEVENT
END:VCALENDAR