BEGIN:VCALENDAR
VERSION:2.0
PRODID:-//STRAWANZERIN - ECPv4.9.5//NONSGML v1.0//EN
CALSCALE:GREGORIAN
METHOD:PUBLISH
X-WR-CALNAME:STRAWANZERIN
X-ORIGINAL-URL:https://www.strawanzerin.at
X-WR-CALDESC:Veranstaltungen im STRAWANZERIN
BEGIN:VTIMEZONE
TZID:"Europe/Vienna"
BEGIN:DAYLIGHT
TZOFFSETFROM:+0100
TZOFFSETTO:+0200
TZNAME:CEST
DTSTART:20200329T010000
END:DAYLIGHT
BEGIN:STANDARD
TZOFFSETFROM:+0200
TZOFFSETTO:+0100
TZNAME:CET
DTSTART:20201025T010000
END:STANDARD
END:VTIMEZONE
BEGIN:VEVENT
DTSTART;TZID="Europe/Vienna":20200819T130000
DTEND;TZID="Europe/Vienna":20200819T150000
DTSTAMP:20260422T173021
CREATED:20200622T163001Z
LAST-MODIFIED:20200622T163001Z
UID:74232-1597842000-1597849200@www.strawanzerin.at
SUMMARY:OMLINE: Mahlzeit Steinzeit
DESCRIPTION:Was stand bei den Jägern und Sammler auf dem Speiseplan? Mammut\, Wild oder doch nur Beeren? Ohne Rezepte aber Dank archäologischer Forschungen und ein wenig Fantasie können wir die Essgewohnheiten der ersten Menschen rekonstruieren.Der Kurs wird als Kochshow als einem normalen Kochkurs angeboten\, da das gemeinsame Kochen\, Zusammensitzen und -essen ausfällt. Es gibt eine historische Einführung und dann wird ein Menü vorgekocht. Die Rezepte werden zur Verfügung gestellt. \n
URL:https://www.strawanzerin.at/termin/omline-mahlzeit-steinzeit/
LOCATION:Online
CATEGORIES:Essen/Vokü
ATTACH;FMTTYPE=image/jpeg:https://www.strawanzerin.at/wp-content/uploads/2020/06/die-wiener-volkshochschulen-quadratisch-26.jpg
ORGANIZER;CN="Wiener%20Volkshochschulen":MAILTO:marketing@vhs.at
END:VEVENT
END:VCALENDAR