BEGIN:VCALENDAR
VERSION:2.0
PRODID:-//STRAWANZERIN - ECPv4.9.5//NONSGML v1.0//EN
CALSCALE:GREGORIAN
METHOD:PUBLISH
X-WR-CALNAME:STRAWANZERIN
X-ORIGINAL-URL:https://www.strawanzerin.at
X-WR-CALDESC:Veranstaltungen im STRAWANZERIN
BEGIN:VTIMEZONE
TZID:"Europe/Helsinki"
BEGIN:DAYLIGHT
TZOFFSETFROM:+0200
TZOFFSETTO:+0300
TZNAME:EEST
DTSTART:20160327T010000
END:DAYLIGHT
BEGIN:STANDARD
TZOFFSETFROM:+0300
TZOFFSETTO:+0200
TZNAME:EET
DTSTART:20161030T010000
END:STANDARD
END:VTIMEZONE
BEGIN:VEVENT
DTSTART;TZID="Europe/Helsinki":20161119T190000
DTEND;TZID="Europe/Helsinki":20161119T190000
DTSTAMP:20260423T213348
CREATED:20161027T171626Z
LAST-MODIFIED:20161027T171626Z
UID:35683-1479582000-1479582000@www.strawanzerin.at
SUMMARY:ONA B. & Der grüne Faden (Verena Weninger)
DESCRIPTION:In der Galerie Kunstfabrik ist eine der wichtigsten österreichischen Vertreterinnen selbstbewusster Kunst von Frauen zu Gast.\nAuthentisch und mit einer Prise Selbstironie präsentiert sich ONA B. und ihr vielfältiges Werk\, durch das sich die Farbe Rot wie der sprichwörtliche Faden zieht. Träume und Freiheit\, Sexualität und Erotik\, Gleichberechtigung und Weiblichkeit sind Themen\, die sie beschäftigen und berühren. Durch die Inhalte wählt sie die Form\, sei es Malerei\, Zeichnung\, Performance\, Installation\, Land Art\, Konzeptkunst\, Medienkunst oder Musik. \nIn der Ausstellung „Der grüne Faden“ im Projektraum junge Kunst verbindet Verena Weninger Kunst und Natur: Sie arbeitet mit Materialien aus der Natur und übersetzt ihre Ästhetik\, Funktionalität und Sinnlichkeit in den Kontext der Kunst. Die dabei entstehenden Objekte und Collagen sind eine philosophische Annäherung an Naturräume und den Begriff „Wildnis“. Schamanistische Methoden wie das Storytelling oder Spurenlesen fließen in ihre Kunst ein. Verena Weninger zeigt ein neues Bild von Landschaft und ihrer mannigfaltigen Bedeutung. \nDie Ausstellungen werden am 19.11.2016 um 19 Uhr eröffnet und sind bis 18.12.2016 von Mittwoch bis Sonntag\, 13 – 18 Uhr\, zu sehen. \n
URL:https://www.strawanzerin.at/termin/ona-b-der-gruene-faden-verena-weninger/2016-11-19/
LOCATION:Kunstfabrik Groß Siegharts\, Karlsteiner Straße 4\, Groß-Siegharts\, Niederösterreich\, 3812\, Österreich
CATEGORIES:Ausstellung,Deutsch,freie Spende,Kunst/Kultur,Niederösterreich
ATTACH;FMTTYPE=image/jpeg:https://www.strawanzerin.at/wp-content/uploads/2016/10/Ona_B.jpg
ORGANIZER;CN="Kunstfabrik%20Gro%C3%9F%20Siegharts":MAILTO:kunstfabrik.gross.siegahrts@gmail.com
GEO:48.791901;15.4039756
X-APPLE-STRUCTURED-LOCATION;VALUE=URI;X-ADDRESS=Kunstfabrik Groß Siegharts Karlsteiner Straße 4 Groß-Siegharts Niederösterreich 3812 Österreich;X-APPLE-RADIUS=500;X-TITLE=Karlsteiner Straße 4:geo:15.4039756,48.791901
END:VEVENT
END:VCALENDAR