BEGIN:VCALENDAR
VERSION:2.0
PRODID:-//STRAWANZERIN - ECPv4.9.5//NONSGML v1.0//EN
CALSCALE:GREGORIAN
METHOD:PUBLISH
X-WR-CALNAME:STRAWANZERIN
X-ORIGINAL-URL:https://www.strawanzerin.at
X-WR-CALDESC:Veranstaltungen im STRAWANZERIN
BEGIN:VTIMEZONE
TZID:"Europe/Vienna"
BEGIN:DAYLIGHT
TZOFFSETFROM:+0100
TZOFFSETTO:+0200
TZNAME:CEST
DTSTART:20210328T010000
END:DAYLIGHT
BEGIN:STANDARD
TZOFFSETFROM:+0200
TZOFFSETTO:+0100
TZNAME:CET
DTSTART:20211031T010000
END:STANDARD
END:VTIMEZONE
BEGIN:VEVENT
DTSTART;TZID="Europe/Vienna":20210317T160000
DTEND;TZID="Europe/Vienna":20210317T173000
DTSTAMP:20260420T131801
CREATED:20210305T090941Z
LAST-MODIFIED:20210317T100316Z
UID:76511-1615996800-1616002200@www.strawanzerin.at
SUMMARY:Online IPW Lecture: Stephanie Johnson & Katharina T. Paul - COVID-19 vaccination practices: A matter of solidarity?
DESCRIPTION:In efforts to contain the ongoing COVID-19 pandemic\, policy officials have frequently appealed to the need for solidarity. This discourse has become particularly pronounced in urgent calls for vaccination – even before vaccines were available. In this way\, vaccine acceptance has been framed as one of the key factors determining our collective future. The two talks report on the status of vaccine acceptance in Austria and the UK: What shapes people’s concerns around COVID19 vaccination\, what motivations drive their choices and how do these resonate with existing knowledge on vaccination practices? What social\, ethical\, and economic value is assigned to vaccination in current policy discourses and how have these shaped immunization programmes? What other issues shape these programmes and how may these impact on vaccination practices? Drawing on narrative interviews conducted in the context of the SolPan (Solidarity in times of a Pandemic) study\, led by the University of Vienna\, as well as emerging survey data\, the two talks offer insights into the ongoing efforts to address the pandemic by means of vaccination. This lecture is the first in a series of three IPW lectures organized by CeSCoS on the question of solidarity in vaccination policy and practices. \nAn event within the IPW Lectures\, an international lecture series of the Department for Political Science\, University of Vienna. \nSpeakers:\nStephanie Johnson\, University of Oxford\nKatharina T. Paul\, University of Vienna \nModeration by Katharina Kieslich\, Department of Political Science\, University of Vienna. \nPlease\, join the discussion directly via: https://eu.bbcollab.com/guest/b829083f88174daa93dda18c9caa8570  \n
URL:https://www.strawanzerin.at/termin/online-ipw-lecture-stephanie-johnson-katharina-t-paul-covid-19-vaccination-practices-a-matter-of-solidarity/
LOCATION:Online
CATEGORIES:Englisch,Gesundheit,Gratis,Vortrag/Symposium
ATTACH;FMTTYPE=image/jpeg:https://www.strawanzerin.at/wp-content/uploads/2021/03/IPW-Lecture-17-03-2021.jpg
ORGANIZER;CN="Forschungsgruppe%20Zeitgen%C3%B6ssische%20Solidarit%C3%A4tsstudien%20%28CeSCoS%29%2C%20Institut%20f%C3%BCr%20Politikwissenschaft%2C%20Universit%C3%A4t%20Wien":MAILTO:natalia.kancelova@univie.ac.at
END:VEVENT
END:VCALENDAR