BEGIN:VCALENDAR
VERSION:2.0
PRODID:-//STRAWANZERIN - ECPv4.9.5//NONSGML v1.0//EN
CALSCALE:GREGORIAN
METHOD:PUBLISH
X-WR-CALNAME:STRAWANZERIN
X-ORIGINAL-URL:https://www.strawanzerin.at
X-WR-CALDESC:Veranstaltungen im STRAWANZERIN
BEGIN:VTIMEZONE
TZID:"Europe/Helsinki"
BEGIN:DAYLIGHT
TZOFFSETFROM:+0200
TZOFFSETTO:+0300
TZNAME:EEST
DTSTART:20170326T010000
END:DAYLIGHT
BEGIN:STANDARD
TZOFFSETFROM:+0300
TZOFFSETTO:+0200
TZNAME:EET
DTSTART:20171029T010000
END:STANDARD
END:VTIMEZONE
BEGIN:VEVENT
DTSTART;TZID="Europe/Helsinki":20170127T200000
DTEND;TZID="Europe/Helsinki":20170127T220000
DTSTAMP:20260423T211827
CREATED:20170130T094510Z
LAST-MODIFIED:20170130T094737Z
UID:39354-1485547200-1485554400@www.strawanzerin.at
SUMMARY:Open Stage – STUTHE Quickie
DESCRIPTION:Jeder und jedem werden 10-15 min Bühnenzeit eingeräumt. Wir freuen uns über DEINE Vielfalt\, die Bühne zu beleben. Theater? Kosmos? Improvisation?  \nDem geneigten Publikum wird ein Abend mit einzigartigen und unwiederholbaren Acts geboten. Ein Ausschnitt aus dem künstlerischen Untergrund der Stadt. \nTheater\, Performance\, Tanz\, Musik\, Lesung\, Improvisationen\, kurz: alle Arten von Live-Kunst sind willkommen! \nAnmeldung schon jetzt und bis 24 Stunden vor Beginn an quickie@stuthe.com. \n
URL:https://www.strawanzerin.at/termin/open-stage-stuthe-quickie/2017-01-27/
LOCATION:Österreich
CATEGORIES:Theater/Kabarett
ORGANIZER;CN="STUTHE":MAILTO:mail@stuthe.com
END:VEVENT
END:VCALENDAR