BEGIN:VCALENDAR
VERSION:2.0
PRODID:-//STRAWANZERIN - ECPv4.9.5//NONSGML v1.0//EN
CALSCALE:GREGORIAN
METHOD:PUBLISH
X-WR-CALNAME:STRAWANZERIN
X-ORIGINAL-URL:https://www.strawanzerin.at
X-WR-CALDESC:Veranstaltungen im STRAWANZERIN
BEGIN:VTIMEZONE
TZID:"Europe/Vienna"
BEGIN:DAYLIGHT
TZOFFSETFROM:+0100
TZOFFSETTO:+0200
TZNAME:CEST
DTSTART:20200329T010000
END:DAYLIGHT
BEGIN:STANDARD
TZOFFSETFROM:+0200
TZOFFSETTO:+0100
TZNAME:CET
DTSTART:20201025T010000
END:STANDARD
END:VTIMEZONE
BEGIN:VEVENT
DTSTART;TZID="Europe/Vienna":20200704T193000
DTEND;TZID="Europe/Vienna":20200704T220000
DTSTAMP:20260420T175951
CREATED:20200512T074005Z
LAST-MODIFIED:20200516T072212Z
UID:73608-1593891000-1593900000@www.strawanzerin.at
SUMMARY:»Oper und…« - Orchesterkonzert geleitet mit Opern-Premiere in den Sommer 2020
DESCRIPTION:Nach der verordneten wochenlangen Zwangspause für Kulturveranstaltungen begrüßt der Wiener Komponist und Dirigent Alexander Blechinger am Samstag\, dem 4. Juli\, um 19:30 Uhr im Ehrbar-Saal den Sommer auf harmonische Art und Weise. Neben bekannten Werken\, wie Beethovens »Ode an die Freiheit«\, kommt es auch zur Uraufführung des 3. Aktes von Blechingers brandaktueller Oper »SIMÄ – Ein Fest in die Zukunft«. Das Libretto stammt von Elisabeth Schrattenholzer. Sopranistin Monika Medek singt die Hauptrolle. Zudem musiziert das KünstlerOrchesterWien mit dem Sängersolistenensemble und dem Chor der Harmonia Classica. \nOrt: \nEhrbar-Saal\, Mühlgasse 30\, 1040 Wien \n  Info & Karten:\nTel.: 01 804 61 68  \nBild: Dirigent und Komponist Alexander Blechinger\, Foto/© Harmonia Classica Records  \n
URL:https://www.strawanzerin.at/termin/oper-und-orchesterkonzert-geleitet-mit-opern-premiere-in-den-sommer-2020/
LOCATION:Ehrbar Saal\, Mühlgasse 28-30\, Wien\, Wien\, 1040 \, Österreich
CATEGORIES:ab 7,Musik,Wien
ATTACH;FMTTYPE=image/jpeg:https://www.strawanzerin.at/wp-content/uploads/2020/05/AlexanderBlechingerDirigentHintergrund-Kopie.jpeg
GEO:48.196889;16.3629043
X-APPLE-STRUCTURED-LOCATION;VALUE=URI;X-ADDRESS=Ehrbar Saal Mühlgasse 28-30 Wien Wien 1040  Österreich;X-APPLE-RADIUS=500;X-TITLE=Mühlgasse 28-30:geo:16.3629043,48.196889
END:VEVENT
END:VCALENDAR