BEGIN:VCALENDAR
VERSION:2.0
PRODID:-//STRAWANZERIN - ECPv4.9.5//NONSGML v1.0//EN
CALSCALE:GREGORIAN
METHOD:PUBLISH
X-WR-CALNAME:STRAWANZERIN
X-ORIGINAL-URL:https://www.strawanzerin.at
X-WR-CALDESC:Veranstaltungen im STRAWANZERIN
BEGIN:VTIMEZONE
TZID:"Europe/Helsinki"
BEGIN:DAYLIGHT
TZOFFSETFROM:+0200
TZOFFSETTO:+0300
TZNAME:EEST
DTSTART:20150329T010000
END:DAYLIGHT
BEGIN:STANDARD
TZOFFSETFROM:+0300
TZOFFSETTO:+0200
TZNAME:EET
DTSTART:20151025T010000
END:STANDARD
END:VTIMEZONE
BEGIN:VEVENT
DTSTART;TZID="Europe/Helsinki":20150221T190000
DTEND;TZID="Europe/Helsinki":20150221T213000
DTSTAMP:20260421T103753
CREATED:20150213T154222Z
LAST-MODIFIED:20150213T154222Z
UID:11105-1424545200-1424554200@www.strawanzerin.at
SUMMARY:Operette DER OBERSTEIGER von Carl Zeller
DESCRIPTION:Operette von Carl Zeller in 3 Akten gespielt vom jungen Wiener Operettenensemble Oper@Tee.\nDie etwas komplizierte Handlung des Geschwisterstücks des berühmten „Vogelhändlers“ wird von den ins Ohr gehenden Melodien des niederösterreichischen Komponisten Carl Zellers und dem verblüffenden Witz des Librettos (v. Moritz West und Ludwig Held) wettgemacht. Schlager wie „Sei nicht bös“ oder „Der Bürokrat tut seine Pflicht“ warten auf ihr wiedererklingen. \nWienerwaldmuseum Eichgraben\nFuhrwerkerhaus\nHauptstraße 17\, 3032 Eichgraben \nKartenreservierung unter: operattee@gmail.com oder info@wienerwaldmuseum.at oder \ntelefonisch unter: 02773/46904 (Mi. v. 8-12h\, Do v. 8-11h) \nPreise: 15.- Vorverkauf\, 18.- Abendkasse \nBesetzung: \nComtesse Fichtenau Ellen Halikiopoulos\nFürst Roderich Martin Rysanek\nNelly\, Spitzenklöpplerin Alice Waginger\nMartin\, Obersteiger Michael Feigl\nElfriede\, Bergwerkdirektorsgattin Elisabeth Jahrmann\nZwack\, Bergwerksdirektor Michael Weiland\nStrobl\, Wirt\nDusel\, Sekretär Philipp Landgraf \nmusikalische Leitung: Theresia Lu Bai \nRegie: Max Alexander Buchleitner \n
URL:https://www.strawanzerin.at/termin/operette-der-obersteiger-von-carl-zeller/
LOCATION:Wienerwaldmuseum Eichgraben\, Hauptstraße 17\, Eichgraben\, Niederösterreich\, 3032\, Österreich
CATEGORIES:ab 7,Deutsch,Kunst/Kultur,Musik,Niederösterreich
ATTACH;FMTTYPE=:
ORGANIZER;CN="Wienerwaldmuseum%20Eichgraben":MAILTO:info@wienerwaldmuseum.at
GEO:48.1762799;15.9933216
X-APPLE-STRUCTURED-LOCATION;VALUE=URI;X-ADDRESS=Wienerwaldmuseum Eichgraben Hauptstraße 17 Eichgraben Niederösterreich 3032 Österreich;X-APPLE-RADIUS=500;X-TITLE=Hauptstraße 17:geo:15.9933216,48.1762799
END:VEVENT
END:VCALENDAR