BEGIN:VCALENDAR
VERSION:2.0
PRODID:-//STRAWANZERIN - ECPv4.9.5//NONSGML v1.0//EN
CALSCALE:GREGORIAN
METHOD:PUBLISH
X-WR-CALNAME:STRAWANZERIN
X-ORIGINAL-URL:https://www.strawanzerin.at
X-WR-CALDESC:Veranstaltungen im STRAWANZERIN
BEGIN:VTIMEZONE
TZID:"Europe/Vienna"
BEGIN:DAYLIGHT
TZOFFSETFROM:+0100
TZOFFSETTO:+0200
TZNAME:CEST
DTSTART:20180325T010000
END:DAYLIGHT
BEGIN:STANDARD
TZOFFSETFROM:+0200
TZOFFSETTO:+0100
TZNAME:CET
DTSTART:20181028T010000
END:STANDARD
END:VTIMEZONE
BEGIN:VEVENT
DTSTART;TZID="Europe/Vienna":20181023T180000
DTEND;TZID="Europe/Vienna":20181023T193000
DTSTAMP:20260420T231126
CREATED:20180910T111822Z
LAST-MODIFIED:20180919T074533Z
UID:58770-1540317600-1540323000@www.strawanzerin.at
SUMMARY:Original Wiener Zeitenwandler beleuchten Österreichs Eigenart aus historischer Sicht
DESCRIPTION:Steht die Abkürzung A.E.I.O.U. wirklich für: Alles Erdreich ist Österreich untertan? Hat die Republik tatsächlich alles Monarchische abgelegt? Und was ist überhaupt typisch Österreichisch? Solche und ähnliche Fragen diskutiert Journalist\, Schriftsteller und Kabarettist Martin Haidinger mit Univ.-Prof. Karl Vocelka am Dienstag\, dem 23. Oktober 2018\, um 18 Uhr im Palais Palffy. Die humorig-geistreiche Doppelconférence der beiden Historiker begleitet Esther-Rebecca Neumann vom Originalklang!Orchester mit Musik aus Barock\, Klassik und Romantik. \nPublikumsstimmen:\n»Zeitenwandler – das bedeutet Wiener Humor und eine genüssliche Portion Bildung\, leiwand!«\n»Ein kurzweiliger und äußerst unterhaltsamer Wissenserwerb – ganz ohne Prüfungsstress.« \nBild: Die »Original Wiener Zeitenwandler« Martin Haidinger\, Karl Vocelka und Esther Neumann\, Foto: Rea Djurovic \n
URL:https://www.strawanzerin.at/termin/original-wiener-zeitenwandler-beleuchten-oesterreichs-eigenart-aus-historischer-sicht/
LOCATION:Palais Palffy\, Josefsplatz 6\, Wien\, Wien\, 1010\, Österreich
CATEGORIES:ab 7,Vortrag/Symposium,Wien
ATTACH;FMTTYPE=image/jpeg:https://www.strawanzerin.at/wp-content/uploads/2018/09/042918_6-Kopie.jpg
GEO:48.2062884;16.3677519
X-APPLE-STRUCTURED-LOCATION;VALUE=URI;X-ADDRESS=Palais Palffy Josefsplatz 6 Wien Wien 1010 Österreich;X-APPLE-RADIUS=500;X-TITLE=Josefsplatz 6:geo:16.3677519,48.2062884
END:VEVENT
END:VCALENDAR