BEGIN:VCALENDAR
VERSION:2.0
PRODID:-//STRAWANZERIN - ECPv4.9.5//NONSGML v1.0//EN
CALSCALE:GREGORIAN
METHOD:PUBLISH
X-WR-CALNAME:STRAWANZERIN
X-ORIGINAL-URL:https://www.strawanzerin.at
X-WR-CALDESC:Veranstaltungen im STRAWANZERIN
BEGIN:VTIMEZONE
TZID:"Europe/Vienna"
BEGIN:DAYLIGHT
TZOFFSETFROM:+0100
TZOFFSETTO:+0200
TZNAME:CEST
DTSTART:20230326T010000
END:DAYLIGHT
BEGIN:STANDARD
TZOFFSETFROM:+0200
TZOFFSETTO:+0100
TZNAME:CET
DTSTART:20231029T010000
END:STANDARD
END:VTIMEZONE
BEGIN:VEVENT
DTSTART;TZID="Europe/Vienna":20230816T203000
DTEND;TZID="Europe/Vienna":20230816T223000
DTSTAMP:20260421T001649
CREATED:20230721T133408Z
LAST-MODIFIED:20230721T133408Z
UID:92614-1692217800-1692225000@www.strawanzerin.at
SUMMARY:Orte\, die Geschichte(n) erzählen
DESCRIPTION:Architektur.Film.Sommer 2023 \nKinoabende im Hof des Az W \nSaving Some Random Insignificant Stories\, AT 2022\,\n13:50 min\, OmeU\, R: Anna Vasof\nZwei Tage nach einer verheerenden Überschwemmung dreht die Künstlerin einen Abschiedsfilm vom Elternhaus in Griechenland – eine Spurensuche. \nTo Remain in the No Longer\, CA 2023\,\n38:00 min\, OmeU\, R: Joyce Joumaa\, CCA\n1962 wurde Oscar Niemeyer eingeladen\, ein internationales Messegelände in der Stadt Tripoli im Libanon zu entwerfen\, das jedoch nie fertiggestellt wurde. Joyce Joumaa untersucht\, wie Architektur in einem Staat funktioniert\, der seine Fürsorgepflicht vernachlässigt und von sozioökonomischen Krisen gebeutelt wird. \nGurbet is a Home now\, DE 2021\,\n62:08 min\, OmeU\, R: Pinar Öğrenci\nDer Film ist eine kritische Auseinandersetzung mit den städtebaulichen Grundsätzen im Berlin der 1980er Jahre\, die Migrant*innen durch Belegungsquoten verdrängten. Anhand von Fotos und Interviews stellt Pinar Öğrenci persönliche Erfahrungen von Gastarbeiter*innen in den Mittelpunkt und erzählt so ein zentrales Stück Kreuzberger Geschichte. \nEintritt frei \nBei Schlechtwetter im Az W Podium. \n
URL:https://www.strawanzerin.at/termin/orte-die-geschichten-erzaehlen/
LOCATION:Architekturzentrum Wien\, Museumsplatz 1\, 1070 Wien\, 1070\, Österreich
CATEGORIES:Film
ATTACH;FMTTYPE=image/jpeg:https://www.strawanzerin.at/wp-content/uploads/2023/07/klein_Still_TRITNL_Joyce_Joumaa_14_59.jpg
GEO:48.2026499;16.3591421
X-APPLE-STRUCTURED-LOCATION;VALUE=URI;X-ADDRESS=Architekturzentrum Wien Museumsplatz 1 1070 Wien 1070 Österreich;X-APPLE-RADIUS=500;X-TITLE=Museumsplatz 1:geo:16.3591421,48.2026499
END:VEVENT
END:VCALENDAR