BEGIN:VCALENDAR
VERSION:2.0
PRODID:-//STRAWANZERIN - ECPv4.9.5//NONSGML v1.0//EN
CALSCALE:GREGORIAN
METHOD:PUBLISH
X-WR-CALNAME:STRAWANZERIN
X-ORIGINAL-URL:https://www.strawanzerin.at
X-WR-CALDESC:Veranstaltungen im STRAWANZERIN
BEGIN:VTIMEZONE
TZID:"Europe/Vienna"
BEGIN:DAYLIGHT
TZOFFSETFROM:+0100
TZOFFSETTO:+0200
TZNAME:CEST
DTSTART:20230326T010000
END:DAYLIGHT
BEGIN:STANDARD
TZOFFSETFROM:+0200
TZOFFSETTO:+0100
TZNAME:CET
DTSTART:20231029T010000
END:STANDARD
END:VTIMEZONE
BEGIN:VEVENT
DTSTART;TZID="Europe/Vienna":20231020T193000
DTEND;TZID="Europe/Vienna":20231020T210000
DTSTAMP:20260420T150737
CREATED:20231005T103059Z
LAST-MODIFIED:20231005T103059Z
UID:94506-1697830200-1697835600@www.strawanzerin.at
SUMMARY:OUT LOUD
DESCRIPTION:A low budget\, high-tech-cinematographic performance theatre in the middle of nowhere | Uraufführung | Eine Produktion von diverCITYLAB in Koproduktion mit Theater am Werk \nDrei Fremde finden sich in einer verlassenen Landschaft\, auf der Suche nach den weisen Worten ihrer mysteriösen Träume. Besessen folgen sie den Spuren\, die sie in eine Welt unter einem alten seltsamen Brunnen führen – der einzige Überrest einer einst wunderschönen Stadt. Auf ihrer Reise durch die Tiefen des magischen Untergrunds begegnen sie Aufgaben: jede Magie hat ihren Preis. Der Preis\, den sie zahlen\, hängt einzig und allein davon ab\, was sie OUT LOUD auszusprechen wagen\, denn ihre Stimmen können bei den ungesehenen Wesenheiten unter der Oberfläche Anklang finden. \nOUT LOUD ist eine Erkundung der Belastungen und Vielschichtigkeit\, sich auszudrücken\, sowohl in der Gegenwart anderer als auch innerhalb der Grenzen eigener Gedanken und Gefühle. Die Magie der widerhallenden Klänge in dieser immersiven Welt der Aufführung lädt die Besucher_innen ein\, tiefer in die Kraft ihrer Stimme und unausgesprochenen Emotionen einzutauchen und die Verletzlichkeit anzunehmen\, die mit der Selbstenthüllung einhergeht\, und so die Tore des Unbekannten zu öffnen. \nOUT LOUD ist das erste gemeinsame Projekt der Performerin und Theatermacherin Didem Kris mit Performer\, Schriftsteller und Theatermacher Berk Kristal. \n
URL:https://www.strawanzerin.at/termin/out-loud/2023-10-20/
LOCATION:Theater am Werk am Petersplatz\, Petersplatz 1\, Wien\, Wien\, 1010\, Österreich
CATEGORIES:Theater/Kabarett
ATTACH;FMTTYPE=image/jpeg:https://www.strawanzerin.at/wp-content/uploads/2023/10/out_loud_c_TaW.jpeg
END:VEVENT
END:VCALENDAR