BEGIN:VCALENDAR
VERSION:2.0
PRODID:-//STRAWANZERIN - ECPv4.9.5//NONSGML v1.0//EN
CALSCALE:GREGORIAN
METHOD:PUBLISH
X-WR-CALNAME:STRAWANZERIN
X-ORIGINAL-URL:https://www.strawanzerin.at
X-WR-CALDESC:Veranstaltungen im STRAWANZERIN
BEGIN:VTIMEZONE
TZID:"Europe/Vienna"
BEGIN:DAYLIGHT
TZOFFSETFROM:+0100
TZOFFSETTO:+0200
TZNAME:CEST
DTSTART:20210328T010000
END:DAYLIGHT
BEGIN:STANDARD
TZOFFSETFROM:+0200
TZOFFSETTO:+0100
TZNAME:CET
DTSTART:20211031T010000
END:STANDARD
END:VTIMEZONE
BEGIN:VEVENT
DTSTART;TZID="Europe/Vienna":20211218T200000
DTEND;TZID="Europe/Vienna":20211218T220000
DTSTAMP:20260422T152522
CREATED:20211207T173933Z
LAST-MODIFIED:20211215T173011Z
UID:82122-1639857600-1639864800@www.strawanzerin.at
SUMMARY:Outline/Online - A streaming pixel Revue
DESCRIPTION:● Elisabeth Falkinger\, Alina Özyurt\, Denny Voch – LESUNG.TUBA.LICHTKUNST. (Live)\n#live #tuba #text #multidisciplinary #live\n● Andreja Andric – YTConcerto (2018)\n#youtube #software #shredder #mashup #realtime\n● Ariathney Coyne – Peace slap (2020) & Hairstory (2021)\n#hair #lockdown #videoart #detschn\n● Lisa Hinterreithner\, Eva Würdinger & Markus Gradwohl – LOW (2021)\n#lockdown #video #performance #chillout #pyjamas #fatigue\n● Zosia Holubowska – Tarot of Change (2021)\n#radio #utopia #FeministUprisingPoland \nhttps://echoraeume.klingt.org/ \n
URL:https://www.strawanzerin.at/termin/outline-online-a-streaming-pixel-revue/
LOCATION:echoraeume.klingt.org\, echoraueme.klingt.org\, www
CATEGORIES:Ausstellung,freie Spende,Musik
ATTACH;FMTTYPE=image/jpeg:https://www.strawanzerin.at/wp-content/uploads/2021/12/event-main-1.jpg
ORGANIZER;CN="echoraeume.klingt.org":MAILTO:echoraeume@klingt.org
END:VEVENT
END:VCALENDAR