BEGIN:VCALENDAR
VERSION:2.0
PRODID:-//STRAWANZERIN - ECPv4.9.5//NONSGML v1.0//EN
CALSCALE:GREGORIAN
METHOD:PUBLISH
X-WR-CALNAME:STRAWANZERIN
X-ORIGINAL-URL:https://www.strawanzerin.at
X-WR-CALDESC:Veranstaltungen im STRAWANZERIN
BEGIN:VTIMEZONE
TZID:"Europe/Vienna"
BEGIN:DAYLIGHT
TZOFFSETFROM:+0100
TZOFFSETTO:+0200
TZNAME:CEST
DTSTART:20240331T010000
END:DAYLIGHT
BEGIN:STANDARD
TZOFFSETFROM:+0200
TZOFFSETTO:+0100
TZNAME:CET
DTSTART:20241027T010000
END:STANDARD
END:VTIMEZONE
BEGIN:VEVENT
DTSTART;TZID="Europe/Vienna":20241108T183000
DTEND;TZID="Europe/Vienna":20241108T200000
DTSTAMP:20260420T180521
CREATED:20240821T123239Z
LAST-MODIFIED:20240821T123239Z
UID:101930-1731090600-1731096000@www.strawanzerin.at
SUMMARY:Oxymora
DESCRIPTION:Franz Hautzinger\, Vierteltontrompete\, Elektronik\nBurkhard Stangl\, Gitarren\, Elektronik \nSchönberg und Pink Floyd – ist das wirklich ein Widerspruch? Burkhard Stangl und Franz Hautzinger\, erfahren im weiten Feld des Jazz wie auch bei der Improvisation über Zwölftonreihen\, begreifen den scheinbaren Gegensatz als Inspirationsquelle. Ein charakteristischer Gitarrenakkord kann von der progressiven Rock-Band zu den klanglichen Sphären von Schönbergs bahnbrechenden Orchesterstücken führen\, ein atonales Motiv findet sich in einem Song wieder. Im musikalischen Entdeckungseifer finden die Welten zueinander. Lassen Sie sich mitnehmen auf eine außergewöhnliche musikalische Reise! \n
URL:https://www.strawanzerin.at/termin/oxymora/
LOCATION:Arnold Schönberg Center – Palais Fanto\, Schwarzenbergplatz 6 / Eingang Zaunergasse 1-3\, Wien\, 1030\, Österreich
CATEGORIES:Gratis,Kunst/Kultur,Musik,Wien
ATTACH;FMTTYPE=image/jpeg:https://www.strawanzerin.at/wp-content/uploads/2024/08/hautzingerstangl.jpg
ORGANIZER;CN="Arnold%20Sch%C3%B6nberg%20Center":MAILTO:shop@schoenberg.at
END:VEVENT
END:VCALENDAR