BEGIN:VCALENDAR
VERSION:2.0
PRODID:-//STRAWANZERIN - ECPv4.9.5//NONSGML v1.0//EN
CALSCALE:GREGORIAN
METHOD:PUBLISH
X-WR-CALNAME:STRAWANZERIN
X-ORIGINAL-URL:https://www.strawanzerin.at
X-WR-CALDESC:Veranstaltungen im STRAWANZERIN
BEGIN:VTIMEZONE
TZID:"Europe/Vienna"
BEGIN:DAYLIGHT
TZOFFSETFROM:+0100
TZOFFSETTO:+0200
TZNAME:CEST
DTSTART:20210328T010000
END:DAYLIGHT
BEGIN:STANDARD
TZOFFSETFROM:+0200
TZOFFSETTO:+0100
TZNAME:CET
DTSTART:20211031T010000
END:STANDARD
END:VTIMEZONE
BEGIN:VEVENT
DTSTART;TZID="Europe/Vienna":20211001T193000
DTEND;TZID="Europe/Vienna":20211001T210000
DTSTAMP:20260424T205030
CREATED:20210917T103330Z
LAST-MODIFIED:20210927T084120Z
UID:80578-1633116600-1633122000@www.strawanzerin.at
SUMMARY:Paganini Ensemble zu Gast im Wiener Konzerthaus
DESCRIPTION:Seiner Spielweise eilt ein legendärer Ruf voraus: Niccolò Paganini (1782-1840) hinterließ auch als Komponist einen bleibenden Eindruck. Am Freitag\, den 1. Oktober\, um 19:30 Uhr setzt das Paganini Ensemble Wien unter der Leitung von Mario Hossen dem Maestro im Mozartsaal des Wiener Konzerthauses ein musikalisches Denkmal. \nProgramm:\nNicolò Paganini\nQuartett op. 4/1 für Violine\, Viola\, Gitarre und Violoncello\nCapriccio MS 44 für Violine solo »Nel cor piu non mi sento«\nTerzetto D-Dur MS 69 für Violine\, Violoncello und Gitarre\nQuartett Nr. 9 D-Dur MS 36 \nKarten:\nTel. 0676 682 5442  \nBild: Mario Hossen\, Marta Potulska\, Liliana Kehayova und Alexander Swete bilden das Paganini Ensemble Wien\, Foto/© Oskar Schmidt \n
URL:https://www.strawanzerin.at/termin/paganini-ensemble-zu-gast-im-wiener-konzerthaus/
LOCATION:Wiener Konzerthaus\, Lothringerstraße 20\, Wien\, Wien\, 1030\, Österreich
CATEGORIES:ab 7,Kunst/Kultur,Musik,Wien
ATTACH;FMTTYPE=image/jpeg:https://www.strawanzerin.at/wp-content/uploads/2021/09/PaganiniEnsembleWien01.jpg
GEO:48.2007746;16.3772233
X-APPLE-STRUCTURED-LOCATION;VALUE=URI;X-ADDRESS=Wiener Konzerthaus Lothringerstraße 20 Wien Wien 1030 Österreich;X-APPLE-RADIUS=500;X-TITLE=Lothringerstraße 20:geo:16.3772233,48.2007746
END:VEVENT
END:VCALENDAR