BEGIN:VCALENDAR
VERSION:2.0
PRODID:-//STRAWANZERIN - ECPv4.9.5//NONSGML v1.0//EN
CALSCALE:GREGORIAN
METHOD:PUBLISH
X-WR-CALNAME:STRAWANZERIN
X-ORIGINAL-URL:https://www.strawanzerin.at
X-WR-CALDESC:Veranstaltungen im STRAWANZERIN
BEGIN:VTIMEZONE
TZID:"Europe/Vienna"
BEGIN:DAYLIGHT
TZOFFSETFROM:+0100
TZOFFSETTO:+0200
TZNAME:CEST
DTSTART:20180325T010000
END:DAYLIGHT
BEGIN:STANDARD
TZOFFSETFROM:+0200
TZOFFSETTO:+0100
TZNAME:CET
DTSTART:20181028T010000
END:STANDARD
END:VTIMEZONE
BEGIN:VEVENT
DTSTART;TZID="Europe/Vienna":20180310T220000
DTEND;TZID="Europe/Vienna":20180311T060000
DTSTAMP:20260421T225950
CREATED:20180302T102243Z
LAST-MODIFIED:20180302T102243Z
UID:53202-1520719200-1520748000@www.strawanzerin.at
SUMMARY:Panzergarage Perlmannplatz
DESCRIPTION:es ist wieder an der zeit den rostigen charakterpanzer aus dem winterschlaf und der garage zu holen um ihn mittels ultraschalltherapie aufzubrechen.\ndiesmal unter musikalischer leitung von jean bach https://www.discogs.com/artist/10129-Jean-Bach\nvon https://raketenbasis-haberlandstrasse.bandcamp.com/ \nnatürlich auch am start panzerpeople and friends.\npassword = donation (diesmal wirklich) \nfreeparty not freetekno! \nno sexism – no racism – no homophobia –\nno nationalism – no antisemitism – no antiziganism \nBE NICE OR LEAVE! \n
URL:https://www.strawanzerin.at/termin/panzergarage-perlmannplatz/
LOCATION:Venster99\, Alserstrasse\, Stadtbahnbogen 99\, Wien\, Wien\, 1090\, Österreich
CATEGORIES:freie Spende,Musik
GEO:48.2181931;16.3424139
X-APPLE-STRUCTURED-LOCATION;VALUE=URI;X-ADDRESS=Venster99 Alserstrasse Stadtbahnbogen 99 Wien Wien 1090 Österreich;X-APPLE-RADIUS=500;X-TITLE=Alserstrasse\, Stadtbahnbogen 99:geo:16.3424139,48.2181931
END:VEVENT
END:VCALENDAR