BEGIN:VCALENDAR
VERSION:2.0
PRODID:-//STRAWANZERIN - ECPv4.9.5//NONSGML v1.0//EN
CALSCALE:GREGORIAN
METHOD:PUBLISH
X-WR-CALNAME:STRAWANZERIN
X-ORIGINAL-URL:https://www.strawanzerin.at
X-WR-CALDESC:Veranstaltungen im STRAWANZERIN
BEGIN:VTIMEZONE
TZID:"Europe/Helsinki"
BEGIN:DAYLIGHT
TZOFFSETFROM:+0200
TZOFFSETTO:+0300
TZNAME:EEST
DTSTART:20160327T010000
END:DAYLIGHT
BEGIN:STANDARD
TZOFFSETFROM:+0300
TZOFFSETTO:+0200
TZNAME:EET
DTSTART:20161030T010000
END:STANDARD
END:VTIMEZONE
BEGIN:VEVENT
DTSTART;TZID="Europe/Helsinki":20160303T190000
DTEND;TZID="Europe/Helsinki":20160303T210000
DTSTAMP:20260421T203142
CREATED:20160218T110746Z
LAST-MODIFIED:20160308T162508Z
UID:24719-1457031600-1457038800@www.strawanzerin.at
SUMMARY:Pappelblatt Nummer 7/16
DESCRIPTION:Präsentation der Literaturzeitschrift Pappelblatt Nummer 7. Es lesen Sonja Henisch\, Barbara U. Laimer\, Michael Pick\, Martina Sens\, Rudolf Krieger\, Musik Maqama Duo Nicole Janns und Michael Mayr-Ebert \n
URL:https://www.strawanzerin.at/termin/pappelblatt-nummer-716/
LOCATION:Café Mocca\, Gersthoferstr. 2A\, Wien\, Wien\, 1180\, Österreich
ATTACH;FMTTYPE=image/jpeg:https://www.strawanzerin.at/wp-content/uploads/2016/02/Flyer-Pappelblatt-7-3-3-19-Uhr.jpg
ORGANIZER;CN="Manfred%20Stangl":MAILTO:manfred.stangl@sonneundmond.at
GEO:48.2308116;16.3288562
X-APPLE-STRUCTURED-LOCATION;VALUE=URI;X-ADDRESS=Café Mocca Gersthoferstr. 2A Wien Wien 1180 Österreich;X-APPLE-RADIUS=500;X-TITLE=Gersthoferstr. 2A:geo:16.3288562,48.2308116
END:VEVENT
END:VCALENDAR