BEGIN:VCALENDAR
VERSION:2.0
PRODID:-//STRAWANZERIN - ECPv4.9.5//NONSGML v1.0//EN
CALSCALE:GREGORIAN
METHOD:PUBLISH
X-WR-CALNAME:STRAWANZERIN
X-ORIGINAL-URL:https://www.strawanzerin.at
X-WR-CALDESC:Veranstaltungen im STRAWANZERIN
BEGIN:VTIMEZONE
TZID:"Europe/Paris"
BEGIN:DAYLIGHT
TZOFFSETFROM:+0100
TZOFFSETTO:+0200
TZNAME:CEST
DTSTART:20150329T010000
END:DAYLIGHT
BEGIN:STANDARD
TZOFFSETFROM:+0200
TZOFFSETTO:+0100
TZNAME:CET
DTSTART:20151025T010000
END:STANDARD
END:VTIMEZONE
BEGIN:VEVENT
DTSTART;TZID="Europe/Paris":20150520T160000
DTEND;TZID="Europe/Paris":20150520T190000
DTSTAMP:20260420T114153
CREATED:20150519T121847Z
LAST-MODIFIED:20150602T135821Z
UID:14959-1432137600-1432148400@www.strawanzerin.at
SUMMARY:Park Piano im Hamerlingpark
DESCRIPTION:Am 20.Mai zwischen 16:00-19:00 Uhr wartet die Agenda Josefstadt im Hamerlingpark mit einem Klavier auf Sie. Alle sind herzlich eingeladen vorbeizukommen und den Park mit eigenen Klängen zu erfreuen oder einfach dem Musizieren anderer zu lauschen. Oder sehen Sie das Park Piano einfach als Möglichkeit\, mit Menschen aus der Nachbarschaft zusammenzukommen. \n
URL:https://www.strawanzerin.at/termin/park-piano-im-hamerlingpark/
LOCATION:Hamerlingpark\, Hamerlingpark\, Wien\, Wien\, 1080\, Österreich
CATEGORIES:Gratis,Kunst/Kultur,Musik,Wien
ORGANIZER;CN="Lokale%20Agenda%20Josefstadt":MAILTO:info@agenda-josefstadt.at
GEO:48.2111485;16.3453257
X-APPLE-STRUCTURED-LOCATION;VALUE=URI;X-ADDRESS=Hamerlingpark Hamerlingpark Wien Wien 1080 Österreich;X-APPLE-RADIUS=500;X-TITLE=Hamerlingpark:geo:16.3453257,48.2111485
END:VEVENT
END:VCALENDAR