BEGIN:VCALENDAR
VERSION:2.0
PRODID:-//STRAWANZERIN - ECPv4.9.5//NONSGML v1.0//EN
CALSCALE:GREGORIAN
METHOD:PUBLISH
X-WR-CALNAME:STRAWANZERIN
X-ORIGINAL-URL:https://www.strawanzerin.at
X-WR-CALDESC:Veranstaltungen im STRAWANZERIN
BEGIN:VTIMEZONE
TZID:"Europe/Paris"
BEGIN:DAYLIGHT
TZOFFSETFROM:+0100
TZOFFSETTO:+0200
TZNAME:CEST
DTSTART:20150329T010000
END:DAYLIGHT
BEGIN:STANDARD
TZOFFSETFROM:+0200
TZOFFSETTO:+0100
TZNAME:CET
DTSTART:20151025T010000
END:STANDARD
END:VTIMEZONE
BEGIN:VEVENT
DTSTART;TZID="Europe/Paris":20150620T203000
DTEND;TZID="Europe/Paris":20150620T230000
DTSTAMP:20260425T101947
CREATED:20150601T083618Z
LAST-MODIFIED:20150602T141141Z
UID:15106-1434832200-1434841200@www.strawanzerin.at
SUMMARY:Patricia Hill & Mic
DESCRIPTION:Die Band\, bestehend aus der Sängerin Patricia Hillinger\, dem Gitarristen Mic Ziarko und Ari Tiihonen am Cajon\, wurde erst dieses Jahr gegründet. Ihr Programm umfasst zahlreiche Hits der Pop- und Rockgeschichte\, sowie Blues\, RnB und Rock‘n’Roll. Eine melodiöse Gitarre\, mitreißender Beat und eine facettenreiche Gesangsstimme zeichnet diese neue\, junge Bandformation aus. \n
URL:https://www.strawanzerin.at/termin/patricia-hill-mic/
LOCATION:Traditionscafé Industrie\, Margaretengürtel 12\, Wien\, Wien\, 1050\, Österreich
CATEGORIES:Deutsch,freie Spende,Musik,Sonstiges,Wien
ATTACH;FMTTYPE=image/jpeg:https://www.strawanzerin.at/wp-content/uploads/2015/06/patricia_hill_fb.jpg
ORGANIZER;CN="Ruth%20Binder":MAILTO:event@cafe-industrie.at
GEO:48.1838252;16.3664539
X-APPLE-STRUCTURED-LOCATION;VALUE=URI;X-ADDRESS=Traditionscafé Industrie Margaretengürtel 12 Wien Wien 1050 Österreich;X-APPLE-RADIUS=500;X-TITLE=Margaretengürtel 12:geo:16.3664539,48.1838252
END:VEVENT
END:VCALENDAR