BEGIN:VCALENDAR
VERSION:2.0
PRODID:-//STRAWANZERIN - ECPv4.9.5//NONSGML v1.0//EN
CALSCALE:GREGORIAN
METHOD:PUBLISH
X-WR-CALNAME:STRAWANZERIN
X-ORIGINAL-URL:https://www.strawanzerin.at
X-WR-CALDESC:Veranstaltungen im STRAWANZERIN
BEGIN:VTIMEZONE
TZID:"Europe/Helsinki"
BEGIN:DAYLIGHT
TZOFFSETFROM:+0200
TZOFFSETTO:+0300
TZNAME:EEST
DTSTART:20150329T010000
END:DAYLIGHT
BEGIN:STANDARD
TZOFFSETFROM:+0300
TZOFFSETTO:+0200
TZNAME:EET
DTSTART:20151025T010000
END:STANDARD
END:VTIMEZONE
BEGIN:VEVENT
DTSTART;TZID="Europe/Helsinki":20151212T193000
DTEND;TZID="Europe/Helsinki":20151212T210000
DTSTAMP:20260421T085945
CREATED:20151112T143019Z
LAST-MODIFIED:20151125T133159Z
UID:21838-1449948600-1449954000@www.strawanzerin.at
SUMMARY:Pension Europa
DESCRIPTION:Eine Produktion des aktionstheater ensemble in Kooperation mit WERK X \n– Nominiert für den NESTROY 2015 in der Kategorie „Beste Off-Produktion“ \nKonzept/Regie: Martin Gruber\nText: aktionstheater ensemble und Claudia Tondl\nMusik: Peter Herbert\nSongs: Aisha Eisa\nVideo: Felix Dietlinger\nDramaturgie: Martin Ojster \nMit: Michaela Bilgeri\, Susanne Brandt\, Aisha Eisa\, Alev Irmak\, Isabella Jeschke\, Kirstin Schwab \nEin Abend für sechs Frauen auf der verzweifelt-aberwitzigen Suche nach einer Vision. Pur\, nackt\, manchmal poetisch\, aber ungemein kraftvoll wird Alltägliches ohne Scheu analysiert und diskutiert. Und es werden Fragen gestellt: Welche Relevanz hat ein Einzelschicksal im vermeintlichen Großen? Welche Relevanz hat das\, was ich tue? (z.B.Theater spielen „It ́s hard to do a performance in Austria\, we are not suffering enough“). Wo liegt die eigene Selbstbestimmtheit? Und muss immer alles einem großen Ganzen untergeordnet sein? Wann ist Unkorrektes korrekt\, und wo liegt da die Grenze? Und wer fühlt sich drinnen (in Europa) und wer draußen? Wahrhaftige Bekenntnisse und verdichtete Geständnisse\, skurill-witzig\, tragisch und mitten aus dem Leben. Manchmal gnadenlos\, manchmal versöhnlich. Alles eine Frage der Perspektive.  \nRegisseur Martin Gruber begibt sich mit seinem aktionstheater ensemble auf eine Reise in die Untiefen des Alltäglichen. Des alltäglichen Sich zur Schau-Stellens\, des alltäglichen Rassismus\, des täglichen Kampfes um Ehrlichkeit und Authentizität. Etwaige große Entwürfe eines erhofften Miteinanders werden dabei heruntergerissen auf ihre Alltagstauglichkeit. Und das Ensemble ringt um Relevanz\, sowie um eine aus Authentizität genährte Poesie. Anhand von Interviews (durchgeführt von Martin Gruber)\, bearbeitet und mit poetischen Texten konterkariert von der Autorin Claudia Tondl (zuletzt mit dem aktionstheater ensemble „Werktagsrevolution – 2013) werden persönliche Grenzen und ein Leben in einem großen Ganzen ausgelotet.  \n Urraufführung aus dem Festspielhaus Bregenz in Koproduktion mit dem Bregenzer Frühling. \nPressestimmen \n„… das aktionstheater ensemble sticht mit seiner neuesten Produktion mitten ins Herz von Europa. Gruber zieht gleich mehrere doppelte Böden ein und lässt seine Figuren über viele kleine Geschichten eine große erzählen. (…) ein Großartiger Abend mit einem äußerst präzise und authentischem Ensemble.“ – Angelika Drnek\, Neue \n
URL:https://www.strawanzerin.at/termin/pension-europa-4/
LOCATION:Österreich
CATEGORIES:Deutsch,Eintrittspreis,Kunst/Kultur,Theater/Kabarett,Wien
ATTACH;FMTTYPE=image/jpeg:https://www.strawanzerin.at/wp-content/uploads/2015/11/6669a6f146892055a98c864ea653c5431.jpg
ORGANIZER;CN="WERK%20X":MAILTO:buero@werk-x.at
END:VEVENT
END:VCALENDAR