BEGIN:VCALENDAR
VERSION:2.0
PRODID:-//STRAWANZERIN - ECPv4.9.5//NONSGML v1.0//EN
CALSCALE:GREGORIAN
METHOD:PUBLISH
X-WR-CALNAME:STRAWANZERIN
X-ORIGINAL-URL:https://www.strawanzerin.at
X-WR-CALDESC:Veranstaltungen im STRAWANZERIN
BEGIN:VTIMEZONE
TZID:"Europe/Vienna"
BEGIN:DAYLIGHT
TZOFFSETFROM:+0100
TZOFFSETTO:+0200
TZNAME:CEST
DTSTART:20200329T010000
END:DAYLIGHT
BEGIN:STANDARD
TZOFFSETFROM:+0200
TZOFFSETTO:+0100
TZNAME:CET
DTSTART:20201025T010000
END:STANDARD
END:VTIMEZONE
BEGIN:VEVENT
DTSTART;TZID="Europe/Vienna":20201004T110000
DTEND;TZID="Europe/Vienna":20201004T143000
DTSTAMP:20260419T193113
CREATED:20200918T153613Z
LAST-MODIFIED:20200925T081647Z
UID:75629-1601809200-1601821800@www.strawanzerin.at
SUMMARY:Performance Brunch WOIZA
DESCRIPTION:Besonnen kuratierte Performance-Häppchen und Kulinarisches verbinden sich zu einem Vormittagsformat. Künstler*innen verschiedener Sparten nehmen diesmal den Walzer unter die Lupe\, auseinander und bauen ihn neu zusammen. \nkünstlerische Speisekarte: \n# SWOOSH – Invitation to the dance\nPerformance: Eva Schaller\nMusikalische Begleitung: Maria Mogas \n# DREIVIERTEL-FEATURE\nPerformance: Susanne Berndl \n# WIE SOLL ICH DAS ERKLÄREN\nPerformance: Dagmar Schaller\nKoproduktion: UMFUG\, Plesni Theater Ljubljana \n# WALZER-INTERAKTION MIT DEM FrauenTanzClub Resis.dance \nBRUNCH\n# Erdäpfelknödel mit Kürbis-Wurzenragout und Salbei\n# Rotkrautsalat mit Quinoa und Erdnussmus\n# Rohkostsalat mit Karotte\, Sellerie\, Paprika\, Lauch\, Kohlrabi\, Radieschen und Tomate\n# Birnenstrudel mit Madelsplitter und Preiselbeeren \nAnmeldung erforderlich unter performancebrunch@gmail.com oder unter https://www.performancebrunch.at/anmeldung-1/ \n
URL:https://www.strawanzerin.at/termin/performance-brunch-woiza-2/
LOCATION:Wiener Volksliedwerk\, Gallitzinstraße 1\, Wien\, Wien\, 1160\, Österreich
CATEGORIES:Essen/Vokü,Tanz,Theater/Kabarett
ATTACH;FMTTYPE=image/jpeg:https://www.strawanzerin.at/wp-content/uploads/2020/09/PB_Woiza_Okt_nurBild.jpg
ORGANIZER;CN="ART.ist":MAILTO:performancebrunch@gmail.com
END:VEVENT
END:VCALENDAR