BEGIN:VCALENDAR
VERSION:2.0
PRODID:-//STRAWANZERIN - ECPv4.9.5//NONSGML v1.0//EN
CALSCALE:GREGORIAN
METHOD:PUBLISH
X-WR-CALNAME:STRAWANZERIN
X-ORIGINAL-URL:https://www.strawanzerin.at
X-WR-CALDESC:Veranstaltungen im STRAWANZERIN
BEGIN:VTIMEZONE
TZID:"Europe/Helsinki"
BEGIN:DAYLIGHT
TZOFFSETFROM:+0200
TZOFFSETTO:+0300
TZNAME:EEST
DTSTART:20140330T010000
END:DAYLIGHT
BEGIN:STANDARD
TZOFFSETFROM:+0300
TZOFFSETTO:+0200
TZNAME:EET
DTSTART:20141026T010000
END:STANDARD
END:VTIMEZONE
BEGIN:VEVENT
DTSTART;TZID="Europe/Helsinki":20141024T200000
DTEND;TZID="Europe/Helsinki":20141024T223000
DTSTAMP:20260420T151832
CREATED:20140918T085529Z
LAST-MODIFIED:20140922T064414Z
UID:6539-1414180800-1414189800@www.strawanzerin.at
SUMMARY:PETER & TEKAL "Verarzten kann ich mich selber!"
DESCRIPTION:Jetzt ist Schluss mit Doktorspielchen—Verarzten kann ich mich selber!\nFeinstes neues Medizinkabarett von Ronny Tekal\, Allgemeinmediziner und gelernter Halbgott\, und seinem Lieblingspatienten\, dem Kommunikationswissenschaftler und gelernten Hypochonder Norbert Peter.\nPETER & TEKAL (früher Peter & Teutscher) geben Tipps\, wie man das Optimum aus seinem Arzt herausholen kann. Patienten geben schließlich ihr Bestes\, um krank zu sein. Da sollten auch die Ärzte alles ihnen mögliche tun\, um sie wieder gesund zu machen! \n
URL:https://www.strawanzerin.at/termin/peter-tekal-verarzten-kann-ich-mich-selber/
CATEGORIES:ab 7,Deutsch,Kunst/Kultur,Niederösterreich,Theater/Kabarett
ATTACH;FMTTYPE=:
ORGANIZER;CN="special%20homes":MAILTO:karten@residenztheater.at
END:VEVENT
END:VCALENDAR