BEGIN:VCALENDAR
VERSION:2.0
PRODID:-//STRAWANZERIN - ECPv4.9.5//NONSGML v1.0//EN
CALSCALE:GREGORIAN
METHOD:PUBLISH
X-WR-CALNAME:STRAWANZERIN
X-ORIGINAL-URL:https://www.strawanzerin.at
X-WR-CALDESC:Veranstaltungen im STRAWANZERIN
BEGIN:VTIMEZONE
TZID:"Europe/Vienna"
BEGIN:DAYLIGHT
TZOFFSETFROM:+0100
TZOFFSETTO:+0200
TZNAME:CEST
DTSTART:20250330T010000
END:DAYLIGHT
BEGIN:STANDARD
TZOFFSETFROM:+0200
TZOFFSETTO:+0100
TZNAME:CET
DTSTART:20251026T010000
END:STANDARD
END:VTIMEZONE
BEGIN:VEVENT
DTSTART;TZID="Europe/Vienna":20250209T180000
DTEND;TZID="Europe/Vienna":20250209T200000
DTSTAMP:20260422T094315
CREATED:20241118T130817Z
LAST-MODIFIED:20241118T130817Z
UID:104597-1739124000-1739131200@www.strawanzerin.at
SUMMARY:Peter Valance »Supermagic«
DESCRIPTION:Illusionen\, magische Stunts & Comedy – Peter Valance gehört zur absoluten Weltspitze der Zauberkunst. \nAls jüngster Preisträger aller Zeiten wurde er mit dem „Merlin Award“\, dem Oscar der Magierwelt\, geehrt. Diese höchste Anerkennung der internationalen Welt der Magie wurde auch David Copperfield\, Siegfried & Roy und Chris Angel zuteil.\nMit nur 15 Jahren gehörte er dem Magischen Zirkel an\, mit 19 war er bereits Deutschlands jüngster Profizauberer\, heute präsentiert Peter Valance Europas größte Illusionsshows. Peter Valance realisiert bis zu 700 Shows im Jahr auf Kreuzfahrtschiffen\, in Casinos und Freizeitparks\, für TV-Produktionen und auf Firmen-Events. In seinem aktuellen Soloprogramm präsentiert Peter Valance spektakuläre Illusionen\, faszinierende Zauberkunststücke und magische Stunts.\nDer charismatische Entertainer verzaubert seine Zuschauer mit Charme\, Witz und Comedy\, dabei spielt die Interaktion mit dem Publikum stets eine wichtige Rolle. Fiebern Sie mit und halten Sie gemeinsam mit Peter Valance den Atem an! Diese beeindruckende Show ist die perfekte Symbiose aus Nervenkitzel\, Comedy und allen Bereichen der modernen Zauberkunst.\nEin Mix der Jung und Alt gleichermaßen begeistern wird. \n
URL:https://www.strawanzerin.at/termin/peter-valance-supermagic/
LOCATION:Papierfabrik Varieté\, Kirchenplatz 9\, Kleinneusiedl\, Niederösterreich\, 2431
CATEGORIES:Niederösterreich
ATTACH;FMTTYPE=image/jpeg:https://www.strawanzerin.at/wp-content/uploads/2024/11/Peter-Valance-c-PeterValance-5.jpg
ORGANIZER;CN="Papierfabrik%20Variet%C3%A9":MAILTO:info@papierfabrik-variete.com
END:VEVENT
END:VCALENDAR