BEGIN:VCALENDAR
VERSION:2.0
PRODID:-//STRAWANZERIN - ECPv4.9.5//NONSGML v1.0//EN
CALSCALE:GREGORIAN
METHOD:PUBLISH
X-WR-CALNAME:STRAWANZERIN
X-ORIGINAL-URL:https://www.strawanzerin.at
X-WR-CALDESC:Veranstaltungen im STRAWANZERIN
BEGIN:VTIMEZONE
TZID:"Europe/Vienna"
BEGIN:DAYLIGHT
TZOFFSETFROM:+0100
TZOFFSETTO:+0200
TZNAME:CEST
DTSTART:20260329T010000
END:DAYLIGHT
BEGIN:STANDARD
TZOFFSETFROM:+0200
TZOFFSETTO:+0100
TZNAME:CET
DTSTART:20261025T010000
END:STANDARD
END:VTIMEZONE
BEGIN:VEVENT
DTSTART;TZID="Europe/Vienna":20260123T193000
DTEND;TZID="Europe/Vienna":20260123T213000
DTSTAMP:20260424T205339
CREATED:20251217T134153Z
LAST-MODIFIED:20251217T134153Z
UID:111535-1769196600-1769203800@www.strawanzerin.at
SUMMARY:PHACE | The Travel Agency is on Fire
DESCRIPTION:Bernhard Lang\nThe Travel Agency is on Fire für Stimme\, fünf Instrumente und Elektronik\, 2021 (ÖEA)\n​​Text: William S. Burroughs \nImmer wieder wandern Loops und Samples durch den Gehörgang\, von Elektronik und Effekten verzerrt und gedoppelt\, von Patches und digitalen Algorithmen verformt und neu strukturiert\, bis die Wahrnehmung umschaltet und aus der Überlagerung ein anderer Sinn erwächst. Wiederholung und Mutation sind Programm in den Werken von Bernhard Lang\, an diesem Abend stimmgewaltig unterstützt von Sarah Maria Sun\, einer der wohl herausragendsten Vokalinterpretinnen unserer Zeit. The Travel Agency is on Fire basiert auf einer Auswahl von „Cut-up“-Experimenten von William S. Burroughs zu Texten einer Reihe kanonischer Schriftsteller\, von William Shakespeare und Arthur Rimbaud bis hin zu William Wordsworth und James Joyce. Burroughs wählte die Quellentexte aus\, zerschnitt sie und stellte die Fragmente nebeneinander\, um zufällige Wortkombinationen auszuwählen und neue Wort-Kompositionen zu schaffen. The Travel Agency is on Fire\, das erst seit 2010 in den Archiven verfügbar ist\, fasziniert Wissenschaftler und Burroughs-Fans gleichermaßen\, da es die experimentellen Prozesse beleuchtet\, die Burroughs‘ Werk zugrunde liegen. Musikalisch werden die Cut-Up-Strategien\, die Burroughs zusammen mit Brion Gysin entwickelt und in den Filmen mit Anthony Balch und Ian Sommerville visualisiert hatte\, auf verschiedene Weise referenziert: wesentlich ist hier die Burroughs’sche Maxime: „Play it back\, Play it back\, Play it all back“\, die auf eine Bewusstseinsveränderung durch Überlagerung und Dopplung des Realen mit Samples und Loops hinweist \n
URL:https://www.strawanzerin.at/termin/phace-the-travel-agency-is-on-fire/
LOCATION:Wiener Konzerthaus\, Lothringerstraße 20\, Wien\, Wien\, 1030\, Österreich
CATEGORIES:ab 7,Musik
ATTACH;FMTTYPE=image/jpeg:https://www.strawanzerin.at/wp-content/uploads/2025/12/PHACE_travel-agency_slider.jpg
ORGANIZER;CN="PHACE":MAILTO:presse@phace.at
GEO:48.2007746;16.3772233
X-APPLE-STRUCTURED-LOCATION;VALUE=URI;X-ADDRESS=Wiener Konzerthaus Lothringerstraße 20 Wien Wien 1030 Österreich;X-APPLE-RADIUS=500;X-TITLE=Lothringerstraße 20:geo:16.3772233,48.2007746
END:VEVENT
END:VCALENDAR