BEGIN:VCALENDAR
VERSION:2.0
PRODID:-//STRAWANZERIN - ECPv4.9.5//NONSGML v1.0//EN
CALSCALE:GREGORIAN
METHOD:PUBLISH
X-WR-CALNAME:STRAWANZERIN
X-ORIGINAL-URL:https://www.strawanzerin.at
X-WR-CALDESC:Veranstaltungen im STRAWANZERIN
BEGIN:VTIMEZONE
TZID:"Europe/Vienna"
BEGIN:DAYLIGHT
TZOFFSETFROM:+0100
TZOFFSETTO:+0200
TZNAME:CEST
DTSTART:20180325T010000
END:DAYLIGHT
BEGIN:STANDARD
TZOFFSETFROM:+0200
TZOFFSETTO:+0100
TZNAME:CET
DTSTART:20181028T010000
END:STANDARD
END:VTIMEZONE
BEGIN:VEVENT
DTSTART;TZID="Europe/Vienna":20180322T190000
DTEND;TZID="Europe/Vienna":20180322T210000
DTSTAMP:20260421T022344
CREATED:20180312T131633Z
LAST-MODIFIED:20180312T131800Z
UID:53257-1521745200-1521752400@www.strawanzerin.at
SUMMARY:Philosophie im Grätzel
DESCRIPTION:Einladung zur 4. Philosophischen Reihe!\nZuhören. Kaffee trinken. Diskutieren. Hinterfragen.\nEinem ca. 20-minütigen Vortrag über eine philosophische Frage folgt eine moderierte Diskussion mit den anwesenden Gästen.\nKein Konsumzwang und freier Eintritt.\nDer Verein für praxisnahe Philosophie ist ein gemeinnütziger\, parteipolitisch\, ideologisch und konfessionell unabhängiger Verein. Er möchte eine Brücke zwischen der Philosophie als Wissenschaft und ihrer praktischen Anwendung schlagen. \n
URL:https://www.strawanzerin.at/termin/philosophie-im-graetzel/2018-03-22/
LOCATION:Café Z\, Meiselstraße 2\, 1150 Wien\, Wien\, 1150\, Österreich
CATEGORIES:Deutsch,freie Spende,Gratis,Vortrag/Symposium,Wien
ATTACH;FMTTYPE=image/jpeg:https://www.strawanzerin.at/wp-content/uploads/2018/03/Christa-Z-und-Lisz-Hirn-by-Nikolai-Friedrich.jpg
GEO:48.1974825;16.3232923
X-APPLE-STRUCTURED-LOCATION;VALUE=URI;X-ADDRESS=Café Z Meiselstraße 2 1150 Wien Wien 1150 Österreich;X-APPLE-RADIUS=500;X-TITLE=Meiselstraße 2:geo:16.3232923,48.1974825
END:VEVENT
END:VCALENDAR