BEGIN:VCALENDAR
VERSION:2.0
PRODID:-//STRAWANZERIN - ECPv4.9.5//NONSGML v1.0//EN
CALSCALE:GREGORIAN
METHOD:PUBLISH
X-WR-CALNAME:STRAWANZERIN
X-ORIGINAL-URL:https://www.strawanzerin.at
X-WR-CALDESC:Veranstaltungen im STRAWANZERIN
BEGIN:VTIMEZONE
TZID:"Europe/Helsinki"
BEGIN:DAYLIGHT
TZOFFSETFROM:+0200
TZOFFSETTO:+0300
TZNAME:EEST
DTSTART:20150329T010000
END:DAYLIGHT
BEGIN:STANDARD
TZOFFSETFROM:+0300
TZOFFSETTO:+0200
TZNAME:EET
DTSTART:20151025T010000
END:STANDARD
END:VTIMEZONE
BEGIN:VEVENT
DTSTART;TZID="Europe/Helsinki":20150222T190000
DTEND;TZID="Europe/Helsinki":20150222T210000
DTSTAMP:20260422T103544
CREATED:20150210T220840Z
LAST-MODIFIED:20150213T154927Z
UID:11166-1424631600-1424638800@www.strawanzerin.at
SUMMARY:PHYSICAL THEATRE MEETS PLAYBACK THEATRE
DESCRIPTION:Im ersten Teil des Impro-Trainings werden wir Opener\, Warm Up’s und Fun Games spielen und Formen des Physical-Theaters kennenlernen.\nIm zweiten Teil werden wir uns mit Formen des Playback-Theaters beschäftigen. \nIm Physical theatre/ comedy nach Andrew Morrish gehen wir unseren Möglichkeiten im körperlichen Ausdruck nach und was uns beim Spielen und beim Zuschauen interessiert und gefällt. (What did you enjoy?) \nIm Playbacktheater werden unsere Alltagsgeschichten\, persönliche Erfahrungen\, Träume\, Fantasien erzählt und von uns aus dem Stegreif szenisch umgesetzt und zurückgespielt (played back).  \nLeitung: Oliver Angel und Kurt Raubal  \nEs ist für alle Interessierten mit oder ohne Vorkenntnisse offen. \n
URL:https://www.strawanzerin.at/termin/physical-theatre-meets-playback-theatre/2015-02-22/
LOCATION:Österreich
CATEGORIES:Deutsch,freie Spende,Kunst/Kultur,Wien,Workshop
ORGANIZER;CN="Kulturzentrum%20Amerlinghaus":MAILTO:amerlinghaus@inode.at
END:VEVENT
END:VCALENDAR