BEGIN:VCALENDAR
VERSION:2.0
PRODID:-//STRAWANZERIN - ECPv4.9.5//NONSGML v1.0//EN
CALSCALE:GREGORIAN
METHOD:PUBLISH
X-WR-CALNAME:STRAWANZERIN
X-ORIGINAL-URL:https://www.strawanzerin.at
X-WR-CALDESC:Veranstaltungen im STRAWANZERIN
BEGIN:VTIMEZONE
TZID:"Europe/Vienna"
BEGIN:DAYLIGHT
TZOFFSETFROM:+0100
TZOFFSETTO:+0200
TZNAME:CEST
DTSTART:20180325T010000
END:DAYLIGHT
BEGIN:STANDARD
TZOFFSETFROM:+0200
TZOFFSETTO:+0100
TZNAME:CET
DTSTART:20181028T010000
END:STANDARD
END:VTIMEZONE
BEGIN:VEVENT
DTSTART;TZID="Europe/Vienna":20180623T140000
DTEND;TZID="Europe/Vienna":20180623T180000
DTSTAMP:20260422T074845
CREATED:20180604T073714Z
LAST-MODIFIED:20180604T073714Z
UID:56602-1529762400-1529776800@www.strawanzerin.at
SUMMARY:Piraten der Karibik - Interaktives Erlebnistheater in Kottingbrunn
DESCRIPTION:Das Leben und Treiben der freiheitsliebenden Piraten hat seit jeher die Menschen fasziniert. Am 23. und 24. Juni bietet das Erlebnistheater im Wasserschloss in Kottingbrunn eine unterhaltsame Möglichkeit\, in die aufregende Geschichte des goldenen Zeitalters der Freibeuter einzutauchen und phantastische Abenteuer mit der gesamten Familie zu erleben. Dann heißt es: »Kleine und große Piraten an Deck und die Segel hissen! Arrr!« \nZeit:\nSamstag\, 23. Juni 2018\, 14-18 Uhr\nSonntag\, 24. Juni 2018\, 14-18 Uhr \nInfo:\nTel.: 02252 74383 \nFoto/© Red Riding Rocketeers \n
URL:https://www.strawanzerin.at/termin/piraten-der-karibik-interaktives-erlebnistheater-in-kottingbrunn/2018-06-23/
LOCATION:Kulturszene Kottingbrunn\, Schloss 1\, 2542 Kottingbrunn \, Kottingbrunn\, 2542\, Österreich
CATEGORIES:ab 7,Niederösterreich,Theater/Kabarett
ATTACH;FMTTYPE=image/jpeg:https://www.strawanzerin.at/wp-content/uploads/2018/05/Piraten_der_KaribikErlebnis-TheaterKottingbrunn.jpg
GEO:47.9511536;16.2305035
X-APPLE-STRUCTURED-LOCATION;VALUE=URI;X-ADDRESS=Kulturszene Kottingbrunn Schloss 1 2542 Kottingbrunn  Kottingbrunn 2542 Österreich;X-APPLE-RADIUS=500;X-TITLE=Schloss 1\, 2542 Kottingbrunn:geo:16.2305035,47.9511536
END:VEVENT
END:VCALENDAR