BEGIN:VCALENDAR
VERSION:2.0
PRODID:-//STRAWANZERIN - ECPv4.9.5//NONSGML v1.0//EN
CALSCALE:GREGORIAN
METHOD:PUBLISH
X-WR-CALNAME:STRAWANZERIN
X-ORIGINAL-URL:https://www.strawanzerin.at
X-WR-CALDESC:Veranstaltungen im STRAWANZERIN
BEGIN:VTIMEZONE
TZID:"Europe/Vienna"
BEGIN:DAYLIGHT
TZOFFSETFROM:+0100
TZOFFSETTO:+0200
TZNAME:CEST
DTSTART:20240331T010000
END:DAYLIGHT
BEGIN:STANDARD
TZOFFSETFROM:+0200
TZOFFSETTO:+0100
TZNAME:CET
DTSTART:20241027T010000
END:STANDARD
END:VTIMEZONE
BEGIN:VEVENT
DTSTART;TZID="Europe/Vienna":20241112T180000
DTEND;TZID="Europe/Vienna":20241112T180000
DTSTAMP:20260420T183200
CREATED:20241028T180623Z
LAST-MODIFIED:20241028T180623Z
UID:104366-1731434400-1731434400@www.strawanzerin.at
SUMMARY:Plädoyer für die Anerkennung und feministische Stärkung des Multilateralismus
DESCRIPTION:Vortrag mit Rosa Logar (Internationale Expertin für Gleichstellung\, Prävention von Gewalt an Frauen und Mädchen und feministische Friedensarbeit). \nDie Vereinten Nationen sind nicht frei von patriarchalen Strukturen und doch ist es wichtig sie als Bündnispartnerin der Frauenbewegung für Gleichstellung und Frieden zu sehen. Am Beispiel der Arbeit von WILPF im Bereich von Frieden und Abrüstung wird aufgezeigt\, wie Frauenorganisationen daran arbeiten\, die Arbeit der Vereinten Nationen gendergerechter zu machen. \nFortsetzung der Reihe Frauen verstehen viel vom Frieden! Feministische Perspektiven und Gegenstrategien zu Militarismus und Krieg. \nModeration: Birge Krondorfer \nIn Kooperation mit WILPF \nDie Veranstaltung ist für Frauen. \n
URL:https://www.strawanzerin.at/termin/plaedoyer-fuer-die-anerkennung-und-feministische-staerkung-des-multilateralismus/
LOCATION:Frauenbildungsstätte Frauenhetz\, Untere Weißgerberstraße 41\, Wien\, Wien\, 1030\, Österreich
CATEGORIES:Antimilitarismus,Deutsch,Feminismus,Gratis,Vortrag/Symposium,Wien
ORGANIZER;CN="Frauenbildungsst%C3%A4tte%20Frauenhetz":MAILTO:pr@frauenhetz.at
GEO:48.2084854;16.3946163
X-APPLE-STRUCTURED-LOCATION;VALUE=URI;X-ADDRESS=Frauenbildungsstätte Frauenhetz Untere Weißgerberstraße 41 Wien Wien 1030 Österreich;X-APPLE-RADIUS=500;X-TITLE=Untere Weißgerberstraße 41:geo:16.3946163,48.2084854
END:VEVENT
END:VCALENDAR