BEGIN:VCALENDAR
VERSION:2.0
PRODID:-//STRAWANZERIN - ECPv4.9.5//NONSGML v1.0//EN
CALSCALE:GREGORIAN
METHOD:PUBLISH
X-WR-CALNAME:STRAWANZERIN
X-ORIGINAL-URL:https://www.strawanzerin.at
X-WR-CALDESC:Veranstaltungen im STRAWANZERIN
BEGIN:VTIMEZONE
TZID:"Europe/Vienna"
BEGIN:DAYLIGHT
TZOFFSETFROM:+0100
TZOFFSETTO:+0200
TZNAME:CEST
DTSTART:20220327T010000
END:DAYLIGHT
BEGIN:STANDARD
TZOFFSETFROM:+0200
TZOFFSETTO:+0100
TZNAME:CET
DTSTART:20221030T010000
END:STANDARD
END:VTIMEZONE
BEGIN:VEVENT
DTSTART;TZID="Europe/Vienna":20220212T193000
DTEND;TZID="Europe/Vienna":20220212T193000
DTSTAMP:20260421T014029
CREATED:20220202T121810Z
LAST-MODIFIED:20220202T121810Z
UID:82575-1644694200-1644694200@www.strawanzerin.at
SUMMARY:PLAYING EARL TURNER
DESCRIPTION:PLAYING EARL TURNER\nvon Laura Andreß und Stefan Schweigert\nEine Produktion von die werker* in Kooperation mit WERK X-Petersplatz\nOnline-Filmpremiere: 12. Februar 2022\, 19.30 Uhr auf werk-x.at/premieren/playing-earl-turner/ \nVor mehr als drei Jahren wurden die Urteile im NSU-Prozess gesprochen. Noch immer sind wichtige Fragen zu den Anschlägen ungeklärt. Die Diskussion um ein weit verzweigtes Unterstützer*innen-Netzwerk der Terrorgruppe Nationalsozialistischer Untergrund\, das sich möglicherweise bis in staatliche Institutionen zieht\, ist beispielhaft für die Debatte um die Existenz einer international gut vernetzten\, rechtsextremen Szene\, der das vermeintliche Trio heute als Vorbild gilt. \nEin wichtiger Schlüsseltext der rechten Szene ist der dystopische Roman „Die Turner Tagebücher“ (1978) von William Luther Pierce. Die Tagebucheinträge des Ich-Erzählers Earl Turner erzählen von einer Untergrund-Terrorzelle\, die mit Bombenattentaten und Mordanschlägen ‚das System‘ destabilisiert und eine weltweite\, ‚weiße Revolution‘ auslöst. Die detailreichen\, akribisch verfassten Schilderungen dienten mehreren Neonazis nachweislich als Inspiration ihrer Anschläge. Auch auf den Computern des NSU wurde der Roman gefunden. \n„PLAYING EARL TURNER“ lässt fiktionale Literatur und dokumentarisches Material aufeinandertreffen. „Die Turner Tagebücher“ sowie die Protokolle des NSU-Prozesses dienen als Ausgangsmaterial einer filmischen Inszenierung\, die nach übergeordneten Strategien rechten Terrors fragt und Einblicke in die Denkmuster der Täter*innen sowie das Selbstbild der Szene gibt. Durch zusätzliche Video- und Tondokumente aus der medialen Berichterstattung entsteht ein atmosphärisch dichter Performancefilm\, in dem die Darsteller*innen mit (Selbst-)Inszenierung\, Verwandlung und Nachahmung spielen – ganz wie ihre (r)echten ‚Vorbilder‘. \nDie Online-Filmpremiere findet am 12.02.2022 um 19.30 Uhr statt und ist kostenlos als Video-on-Demand unter werk-x.at/premieren/playing-earl-turner/ bis zum 14.02.2021\, Mitternacht verfügbar. \nMit: Nora Jacobs\, Simon Dietersdorfer\, Simon Mantei\nKonzept\, Text\, Inszenierung: Stefan Schweigert\nKonzept\, Text\, Dramaturgie: Laura Andreß\nKamera\, Ton & Postproduktion: Ali Andress\nVideo- & Lichtdesign: Martin Siemann\nLichtbau & -beratung: Markus Harthum\nBühne: Lucas Fischötter\nBühnenbildkonzeption: Johanna Armstorfer\nKostüm: Andrea Simeon\nKomposition: Simon Dietersdorfer\nSounddesign: Simon Dietersdorfer\, Stefan Schweigert\nProduktionsleitung: Valentin Werner\nRegieassistenz: Linda Fress \nGefördert von Stadt Wien\, Bundesministerium Kunst\, Kultur\, öffentlicher Dienst und Sport und Zukunftsfonds. \n
URL:https://www.strawanzerin.at/termin/playing-earl-turner/2022-02-12/
LOCATION:WERK X-Petersplatz\, Petersplatz 1\, Wien\, Wien\, 1010\, Österreich
CATEGORIES:Theater/Kabarett
ATTACH;FMTTYPE=image/jpeg:https://www.strawanzerin.at/wp-content/uploads/2022/01/1920x1080_Playing_Earl_Turner_KeyvisualcLucas_Fischoetter.jpg
END:VEVENT
END:VCALENDAR