BEGIN:VCALENDAR
VERSION:2.0
PRODID:-//STRAWANZERIN - ECPv4.9.5//NONSGML v1.0//EN
CALSCALE:GREGORIAN
METHOD:PUBLISH
X-WR-CALNAME:STRAWANZERIN
X-ORIGINAL-URL:https://www.strawanzerin.at
X-WR-CALDESC:Veranstaltungen im STRAWANZERIN
BEGIN:VTIMEZONE
TZID:"Europe/Vienna"
BEGIN:DAYLIGHT
TZOFFSETFROM:+0100
TZOFFSETTO:+0200
TZNAME:CEST
DTSTART:20240331T010000
END:DAYLIGHT
BEGIN:STANDARD
TZOFFSETFROM:+0200
TZOFFSETTO:+0100
TZNAME:CET
DTSTART:20241027T010000
END:STANDARD
END:VTIMEZONE
BEGIN:VEVENT
DTSTART;TZID="Europe/Vienna":20240420T120000
DTEND;TZID="Europe/Vienna":20240420T153000
DTSTAMP:20260421T205502
CREATED:20240408T171553Z
LAST-MODIFIED:20240408T171553Z
UID:97975-1713614400-1713627000@www.strawanzerin.at
SUMMARY:Plogging World 2024
DESCRIPTION:Plogging World in Wien! Der Begriff Plogging hat seinen\nUrsprung in Schweden und beschreibt den Lauftrend des Joggens und Müllsammelns.\nWir gehen am 20. April 2024 in die fünfte Runde des\ninternationalen Plogging Events.\nKurzfassung:\nZEIT: 20. April um 12:00 Uhr\nTREFFPUNKT: U6 Station NEUE DONAU\nABLAUF:\n12:00-12:30 Besprechung\n12:30-14:00/13:30 Laufen und Müll einsammeln\n14:30-15:30 Müll trennen\, dokumentieren\, gesunde Jause und Ausklang\nWir freuen uns auf euch!\nBitte kommt mit der U-Bahn\, zu Fuß oder mit dem Rad\, um unsere Umwelt bei der Anreise zu schonen. Es handelt sich bei unserem Event um ein Green Event\, sprich\, wir setzen Maßnahmen für nachhaltige Events. Bitte\nunterstützt uns dabei. Danke!\nENGLISH VERSION:\nWe will meet on the 20th of April at U6 station ‚Neue Donau‘ to go plogging. It’s the fourth time we are organizing this international event.\nIn short:\nTIME: 20th of April at 12pm\nWHERE: U6 station NEUE DONAU\nSCHEDULE:\n12.00-12.30pm directions\n12.30-2.00pm plogging\n2.30-3.30pm get together\, waste seperation\, documentation.\nSee you on Saturday!\nPlease come by foot\, by public transport or by bike. Thank you! \n
URL:https://www.strawanzerin.at/termin/plogging-world-2024/
LOCATION:U6 Neue Donau\, Am Rollerdamm 1\, U6 Neue Donau\, Wien\, 1210\, Österreich
CATEGORIES:Gratis,Sport,Wien
ATTACH;FMTTYPE=image/jpeg:https://www.strawanzerin.at/wp-content/uploads/2024/04/GreenHeroes.jpg
ORGANIZER;CN="Green%20Heroes":MAILTO:office@greenheroes.at
END:VEVENT
END:VCALENDAR