BEGIN:VCALENDAR
VERSION:2.0
PRODID:-//STRAWANZERIN - ECPv4.9.5//NONSGML v1.0//EN
CALSCALE:GREGORIAN
METHOD:PUBLISH
X-WR-CALNAME:STRAWANZERIN
X-ORIGINAL-URL:https://www.strawanzerin.at
X-WR-CALDESC:Veranstaltungen im STRAWANZERIN
BEGIN:VTIMEZONE
TZID:"Europe/Vienna"
BEGIN:DAYLIGHT
TZOFFSETFROM:+0100
TZOFFSETTO:+0200
TZNAME:CEST
DTSTART:20190331T010000
END:DAYLIGHT
BEGIN:STANDARD
TZOFFSETFROM:+0200
TZOFFSETTO:+0100
TZNAME:CET
DTSTART:20191027T010000
END:STANDARD
END:VTIMEZONE
BEGIN:VEVENT
DTSTART;TZID="Europe/Vienna":20190718T200000
DTEND;TZID="Europe/Vienna":20190718T213000
DTSTAMP:20260420T223922
CREATED:20190602T224414Z
LAST-MODIFIED:20190711T161635Z
UID:65661-1563480000-1563485400@www.strawanzerin.at
SUMMARY:"Podium"-Sommerlesereihe
DESCRIPTION:Zum Thema „Ferne Spiegel – Literatur und Geschichte“ lesen aus ihren Werken: \nJudith Nika Pfeifer\, Marlen Schachinger \nEinleitung: Birgit Schwaner \n
URL:https://www.strawanzerin.at/termin/podium-sommerlesereihe-4/
LOCATION:Café Prückel\, Stubenring 24\, Wien\, 1010\, Vereinigte Staaten
CATEGORIES:Literatur
GEO:48.2076994;16.3805404
X-APPLE-STRUCTURED-LOCATION;VALUE=URI;X-ADDRESS=Café Prückel Stubenring 24 Wien 1010 Vereinigte Staaten;X-APPLE-RADIUS=500;X-TITLE=Stubenring 24:geo:16.3805404,48.2076994
END:VEVENT
END:VCALENDAR