BEGIN:VCALENDAR
VERSION:2.0
PRODID:-//STRAWANZERIN - ECPv4.9.5//NONSGML v1.0//EN
CALSCALE:GREGORIAN
METHOD:PUBLISH
X-WR-CALNAME:STRAWANZERIN
X-ORIGINAL-URL:https://www.strawanzerin.at
X-WR-CALDESC:Veranstaltungen im STRAWANZERIN
BEGIN:VTIMEZONE
TZID:"Europe/Vienna"
BEGIN:DAYLIGHT
TZOFFSETFROM:+0100
TZOFFSETTO:+0200
TZNAME:CEST
DTSTART:20190331T010000
END:DAYLIGHT
BEGIN:STANDARD
TZOFFSETFROM:+0200
TZOFFSETTO:+0100
TZNAME:CET
DTSTART:20191027T010000
END:STANDARD
END:VTIMEZONE
BEGIN:VEVENT
DTSTART;TZID="Europe/Vienna":20190702T190000
DTEND;TZID="Europe/Vienna":20190702T203000
DTSTAMP:20260421T210040
CREATED:20190607T130835Z
LAST-MODIFIED:20190607T130835Z
UID:65654-1562094000-1562099400@www.strawanzerin.at
SUMMARY:„Podium“-Sommerlesereihe. Eröffnungsabend
DESCRIPTION:Die Sommerlesereihe des Literaturkreises „Podium“ hat dieses Jahr als Thema „Ferne Spiegel – Literatur und Geschichte“. Dieses Jahre lesen 17 Autorinnen und Autoren dazu Auszüge aus ihren Werken – das Spektrum reicht vom historischen Roman über die experimentelle\, literarische Montage bis zu Satire und Essay\, die Themen sind so vielfältig wie die Lesenden\, die sich in ihrer Arbeit auf Zeitreise in vergangene Epochen begeben und der Gegenwart dabei einen Spiegel vorhalten. Nach Veranstaltungen finden bei freiem Eintritt – und nach dem Eröffnungsabend – im Café Prückel statt. \nAm 2. Juli wird die Sommerlesereihe um 19 Uhr in der Alten Schmiede\, Schönlaterngasse 9\, 1010 Wien\, eröffnet\, und zugleich der Literaturkreis „Podium“ vorgestellt.\nLesende: Claudia Erdheim\, Nils Jensen\, Cornelia Travnicek \n
URL:https://www.strawanzerin.at/termin/podium-sommerlesereihe-eroeffnungsabend/
LOCATION:Alte Schmiede\, Schönlaterngasse 9\, Wien\, Wien\, 1010\, Österreich
CATEGORIES:Gratis,Literatur
ORGANIZER;CN="Alte%20Schmiede":MAILTO:info@alte-schmiede.at
GEO:48.2093922;16.3780028
X-APPLE-STRUCTURED-LOCATION;VALUE=URI;X-ADDRESS=Alte Schmiede Schönlaterngasse 9 Wien Wien 1010 Österreich;X-APPLE-RADIUS=500;X-TITLE=Schönlaterngasse 9:geo:16.3780028,48.2093922
END:VEVENT
END:VCALENDAR