BEGIN:VCALENDAR
VERSION:2.0
PRODID:-//STRAWANZERIN - ECPv4.9.5//NONSGML v1.0//EN
CALSCALE:GREGORIAN
METHOD:PUBLISH
X-WR-CALNAME:STRAWANZERIN
X-ORIGINAL-URL:https://www.strawanzerin.at
X-WR-CALDESC:Veranstaltungen im STRAWANZERIN
BEGIN:VTIMEZONE
TZID:"Europe/Vienna"
BEGIN:DAYLIGHT
TZOFFSETFROM:+0100
TZOFFSETTO:+0200
TZNAME:CEST
DTSTART:20170326T010000
END:DAYLIGHT
BEGIN:STANDARD
TZOFFSETFROM:+0200
TZOFFSETTO:+0100
TZNAME:CET
DTSTART:20171029T010000
END:STANDARD
END:VTIMEZONE
BEGIN:VEVENT
DTSTART;TZID="Europe/Vienna":20171025T190000
DTEND;TZID="Europe/Vienna":20171025T210000
DTSTAMP:20260421T141016
CREATED:20170928T091217Z
LAST-MODIFIED:20170928T144120Z
UID:47319-1508958000-1508965200@www.strawanzerin.at
SUMMARY:Podiumsdiskussion: "Im Fokus: Architektur­foto­grafie seit 1945"-  Im Rahmen der Ausstellung „Margherita Spiluttini / Sammlung mit Aussicht #2“
DESCRIPTION:Anlässlich der Eröffnung des Schaufensters zu Margherita Spiluttini diskutiert eine fachkundige Runde über Architekturfotografie. \nWährend der Zeit der Nachkriegsmoderne kommt es zu einer neuen Symbiose zwischen Architektur und Fotografie. Nicht die Dokumentation steht im Mittelpunkt\, sondern das bildnerische Mittel der Überhöhung bestimmt die visuelle Wiedergabe des architektonischen Neubeginns nach 1945. Gemeinsam mit Expert*innen erfolgen Rück- und Ausblick zum Thema Architekturfotografie. \nGäste:\nKarin Haupt\, Architektin\nGabriele Hofer-Hagenauer\, Fotohistorikerin\nKarin Mack\, Künstlerin und Architekturfotografin\nMargherita Spiluttini\, Architekturfotografin\nHarald R. Stühlinger\, Architektur-\, Städtebau- und Fotohistoriker\nModeration: Monika Platzer\, Az W \n
URL:https://www.strawanzerin.at/termin/podiumsdiskussion-im-fokus-architektur%c2%adfoto%c2%adgrafie-seit-1945-im-rahmen-der-ausstellung-margherita-spiluttini-sammlung-mit-aussicht-2/
LOCATION:Architekturzentrum Wien\, Museumsplatz 1\, Wien\, Wien\, 1200\, Österreich
CATEGORIES:Ausstellung
ATTACH;FMTTYPE=image/jpeg:https://www.strawanzerin.at/wp-content/uploads/2017/09/VA_Im-Fokus-Architekturfotografie.jpg
GEO:48.2034986;16.3591175
X-APPLE-STRUCTURED-LOCATION;VALUE=URI;X-ADDRESS=Architekturzentrum Wien Museumsplatz 1 Wien Wien 1200 Österreich;X-APPLE-RADIUS=500;X-TITLE=Museumsplatz 1:geo:16.3591175,48.2034986
END:VEVENT
END:VCALENDAR