BEGIN:VCALENDAR
VERSION:2.0
PRODID:-//STRAWANZERIN - ECPv4.9.5//NONSGML v1.0//EN
CALSCALE:GREGORIAN
METHOD:PUBLISH
X-WR-CALNAME:STRAWANZERIN
X-ORIGINAL-URL:https://www.strawanzerin.at
X-WR-CALDESC:Veranstaltungen im STRAWANZERIN
BEGIN:VTIMEZONE
TZID:"Europe/Vienna"
BEGIN:DAYLIGHT
TZOFFSETFROM:+0100
TZOFFSETTO:+0200
TZNAME:CEST
DTSTART:20200329T010000
END:DAYLIGHT
BEGIN:STANDARD
TZOFFSETFROM:+0200
TZOFFSETTO:+0100
TZNAME:CET
DTSTART:20201025T010000
END:STANDARD
END:VTIMEZONE
BEGIN:VEVENT
DTSTART;TZID="Europe/Vienna":20200917T190000
DTEND;TZID="Europe/Vienna":20200917T210000
DTSTAMP:20260420T104812
CREATED:20200820T092245Z
LAST-MODIFIED:20200902T093626Z
UID:75128-1600369200-1600376400@www.strawanzerin.at
SUMMARY:Podiumsdiskussion: Wohin geht die Bau­kultur­politik in Wien?
DESCRIPTION:Welchen Stellenwert werden Architektur und Stadtentwicklung in den nächsten fünf Jahren in Wien haben? Auch darüber wird in der bevorstehenden Wienwahl abgestimmt. \nAnlässlich der Wiener Gemeinderatswahl 2020 sprechen wir mit Vertreter*innen der wichtigsten wahlwerbenden Parteien über ihre Konzepte für die bauliche Entwicklung Wiens\, von Wohnen\, öffentlichen Infrastrukturen bis Mobilität\, von Klimaschutz\, Qualitätssicherung bis zum Verhältnis von Politik\, Gemeinwohl und Markt. Bereits 2014 beschloss der Wiener Gemeinderat die baukulturellen Leitsätze der Stadt Wien. Wie aktuell sind diese Zielvorstellungen und wie sollen sie erreicht werden? \nGäste:\nOmar Al-Rawi\, SP Wien\nStefan Gara\, Neos Wien\nPeter Kraus\, Die Grünen Wien\nElisabeth Olischar\, VP Wien\nAlexander Pawkowicz\, FP Wien\nModeration:\nRenate Hammer\, Robert Temel \nEine Veranstaltung der Plattform Baukulturpolitik in Kooperation mit dem Architekturzentrum Wien.\nAufgrund der Covid-19 Maßnahmen ist eine Reservierung erforderlich.\nBitte Name und Email-Adresse auch von Begleitpersonen bekanntgeben!\nReservierung: anmeldung@baukulturpolitik.at\nDie Veranstaltung wird live auf zoom übertragen. Den Link dazu finden Sie demnächst auf der Az W-Homepage. \n
URL:https://www.strawanzerin.at/termin/podiumsdiskussion-wohin-geht-die-baukulturpolitik-in-wien/
LOCATION:Architekturzentrum Wien\, Museumsplatz 1\, 1070 Wien\, 1070\, Österreich
CATEGORIES:Vortrag/Symposium
ATTACH;FMTTYPE=image/jpeg:https://www.strawanzerin.at/wp-content/uploads/2020/08/Baukultur.jpg
GEO:48.2026499;16.3591421
X-APPLE-STRUCTURED-LOCATION;VALUE=URI;X-ADDRESS=Architekturzentrum Wien Museumsplatz 1 1070 Wien 1070 Österreich;X-APPLE-RADIUS=500;X-TITLE=Museumsplatz 1:geo:16.3591421,48.2026499
END:VEVENT
END:VCALENDAR